Workbook

Sheet test
D1: IMPORTANTE: SCRIVERE E CANCELLARE SOLO SULLE CELLE GRIGIE, NON TOCCARE LE ALTRE!!! | W1: test ideato da | Y1: https://claudiasorcini.com/
A2: ordine random | B2: item | C2: Formula | D2: Nome Tradizionale | E2: CHECK | F2: scopri Nome Tradizionale? | G2: Nome Tradizionale | H2: Nome IUPAC | I2: CHECK | J2: scopri Nome IUPAC? | K2: Nome IUPAC | L2: Nome Tradizionale | M2: Nome IUPAC | N2: Nome Stock | O2: n.o. elemento centrale | P2: Categoria | Q2: Sottocategoria | R2: Note
A3: 1 | B3: =elenco!A113 -> 112 | C3: =elenco!B113 -> H₃PO3 | E3: =IF(D3="","",IF(D3=L3,"OK","KO")) | F3: no | G3: =IF(F3="sì",L3,"") | I3: =IF(H3="","",IF(H3=M3,"OK","KO")) | J3: no | K3: =IF(J3="sì",M3,"") | L3: =elenco!C113 -> Acido Ortofosforoso | M3: =elenco!D113 -> acido fosforico (III) condensato | N3: =elenco!E113 -> acido fosforico (III) condensato | O3: =elenco!F113 -> 3 | P3: =elenco!G113 -> 6. ACIDI OSSIGENATI | Q3: =elenco!H113 -> 0 | R3: =elenco!I113 -> da Anidride fosforosa
A4: 2 | B4: =elenco!A22 -> 21 | C4: =elenco!B22 -> CuCl₂ | E4: =IF(D4="","",IF(D4=L4,"OK","KO")) | F4: no | G4: =IF(F4="sì",L4,"") | I4: =IF(H4="","",IF(H4=M4,"OK","KO")) | J4: no | K4: =IF(J4="sì",M4,"") | L4: =elenco!C22 -> Cloruro rameico | M4: =elenco!D22 -> Dicloruro di rame | N4: =elenco!E22 -> Cloruro di rame (II) | O4: =elenco!F22 -> 2 | P4: =elenco!G22 -> 4. SALI BINARI | Q4: =elenco!H22 -> 0 | R4: =elenco!I22 -> 0
A5: 3 | B5: =elenco!A10 -> 9 | C5: =elenco!B10 -> Mn₂O7 | E5: =IF(D5="","",IF(D5=L5,"OK","KO")) | F5: no | G5: =IF(F5="sì",L5,"") | I5: =IF(H5="","",IF(H5=M5,"OK","KO")) | J5: no | K5: =IF(J5="sì",M5,"") | L5: =elenco!C10 -> Anidride permanganica | M5: =elenco!D10 -> Eptaossido di dimanganese (VII) | N5: =elenco!E10 -> Ossido di dimanganese (VII) | O5: =elenco!F10 -> + 7 | P5: =elenco!G10 -> 1.OSSIDI | Q5: =elenco!H10 -> OSSIDI ACIDI (ANIDRIDI) | R5: =elenco!I10 -> il manganese è un metallo di transizione (blocco d) che può assumere diversi stati di ossidazione: nei più bassi tendere a comportarsi come un metallo, formando ossidi basici (idrossidi con aggiunta di acqua), nei più alti come un non metallo, formando ossidi acidi (acidi con aggiunta di acqua)
A6: 4 | B6: =elenco!A37 -> 36 | C6: =elenco!B37 -> SO₂ | E6: =IF(D6="","",IF(D6=L6,"OK","KO")) | F6: no | G6: =IF(F6="sì",L6,"") | I6: =IF(H6="","",IF(H6=M6,"OK","KO")) | J6: no | K6: =IF(J6="sì",M6,"") | L6: =elenco!C37 -> Anidride solforosa | M6: =elenco!D37 -> Diossido di zolfo | N6: =elenco!E37 -> Ossido di zolfo(IV) | O6: =elenco!F37 -> 4 | P6: =elenco!G37 -> 1.OSSIDI | Q6: =elenco!H37 -> OSSIDI ACIDI (ANIDRIDI) | R6: =elenco!I37 -> 0
A7: 5 | B7: =elenco!A3 -> 2 | C7: =elenco!B3 -> Cl₂O₅ | E7: =IF(D7="","",IF(D7=L7,"OK","KO")) | F7: no | G7: =IF(F7="sì",L7,"") | I7: =IF(H7="","",IF(H7=M7,"OK","KO")) | J7: no | K7: =IF(J7="sì",M7,"") | L7: =elenco!C3 -> Anidride clorica | M7: =elenco!D3 -> Pentossido di dicloro | N7: =elenco!E3 -> Ossido di cloro (V) | O7: =elenco!F3 -> 5 | P7: =elenco!G3 -> 1.OSSIDI | Q7: =elenco!H3 -> OSSIDI ACIDI (ANIDRIDI) | R7: =elenco!I3 -> 0
A8: 6 | B8: =elenco!A107 -> 106 | C8: =elenco!B107 -> H₄P₂O₇ | E8: =IF(D8="","",IF(D8=L8,"OK","KO")) | F8: no | G8: =IF(F8="sì",L8,"") | I8: =IF(H8="","",IF(H8=M8,"OK","KO")) | J8: no | K8: =IF(J8="sì",M8,"") | L8: =elenco!C107 -> Acido Pirofosforico | M8: =elenco!D107 -> acido difosforico (V) | N8: =elenco!E107 -> acido difosforico (V) | O8: =elenco!F107 -> 5 | P8: =elenco!G107 -> 6. ACIDI OSSIGENATI | Q8: =elenco!H107 -> 0 | R8: =elenco!I107 -> da Anidride fosforica P₂O₅ +2H2O - Gruppo 15
A9: 7 | B9: =elenco!A36 -> 35 | C9: =elenco!B36 -> P₂O₅ | E9: =IF(D9="","",IF(D9=L9,"OK","KO")) | F9: no | G9: =IF(F9="sì",L9,"") | I9: =IF(H9="","",IF(H9=M9,"OK","KO")) | J9: no | K9: =IF(J9="sì",M9,"") | L9: =elenco!C36 -> Anidride fosforica | M9: =elenco!D36 -> Pentossido di difosforo | N9: =elenco!E36 -> Ossido di fosforo(V) | O9: =elenco!F36 -> 5 | P9: =elenco!G36 -> 1.OSSIDI | Q9: =elenco!H36 -> OSSIDI ACIDI (ANIDRIDI) | R9: =elenco!I36 -> 0
A10: 8 | B10: =elenco!A138 -> 137 | C10: =elenco!B138 -> HIO | E10: =IF(D10="","",IF(D10=L10,"OK","KO")) | F10: no | G10: =IF(F10="sì",L10,"") | I10: =IF(H10="","",IF(H10=M10,"OK","KO")) | J10: no | K10: =IF(J10="sì",M10,"") | L10: =elenco!C138 -> acido ipoiodico | M10: =elenco!D138 -> 0 | N10: =elenco!E138 -> 0 | O10: =elenco!F138 -> 0 | P10: =elenco!G138 -> 6. ACIDI OSSIGENATI | Q10: =elenco!H138 -> 0 | R10: =elenco!I138 -> Gruppo 17
A11: 9 | B11: =elenco!A140 -> 139 | C11: =elenco!B140 -> H₂Cr₂O₇ | E11: =IF(D11="","",IF(D11=L11,"OK","KO")) | F11: no | G11: =IF(F11="sì",L11,"") | I11: =IF(H11="","",IF(H11=M11,"OK","KO")) | J11: no | K11: =IF(J11="sì",M11,"") | L11: =elenco!C140 -> acido dicromico | M11: =elenco!D140 -> 0 | N11: =elenco!E140 -> 0 | O11: =elenco!F140 -> 0 | P11: =elenco!G140 -> 6. ACIDI OSSIGENATI | Q11: =elenco!H140 -> 0 | R11: =elenco!I140 -> Gruppo 6
A12: 10 | B12: =elenco!A4 -> 3 | C12: =elenco!B4 -> Cl₂O₃ | E12: =IF(D12="","",IF(D12=L12,"OK","KO")) | F12: no | G12: =IF(F12="sì",L12,"") | I12: =IF(H12="","",IF(H12=M12,"OK","KO")) | J12: no | K12: =IF(J12="sì",M12,"") | L12: =elenco!C4 -> Anidride clorosa | M12: =elenco!D4 -> Triossido di dicloro | N12: =elenco!E4 -> Ossido di cloro (III) | O12: =elenco!F4 -> 3 | P12: =elenco!G4 -> 1.OSSIDI | Q12: =elenco!H4 -> OSSIDI ACIDI (ANIDRIDI) | R12: =elenco!I4 -> 0
A13: 11 | B13: =elenco!A141 -> 140 | C13: =elenco!B141 -> CaSO₄ | E13: =IF(D13="","",IF(D13=L13,"OK","KO")) | F13: no | G13: =IF(F13="sì",L13,"") | I13: =IF(H13="","",IF(H13=M13,"OK","KO")) | J13: no | K13: =IF(J13="sì",M13,"") | L13: =elenco!C141 -> solfato di calcio | M13: =elenco!D141 -> 0 | N13: =elenco!E141 -> 0 | O13: =elenco!F141 -> 0 | P13: =elenco!G141 -> 7. SALI OSSIGENATI | Q13: =elenco!H141 -> 0 | R13: =elenco!I141 -> 0
A14: 12 | B14: =elenco!A137 -> 136 | C14: =elenco!B137 -> HIO₃ | E14: =IF(D14="","",IF(D14=L14,"OK","KO")) | F14: no | G14: =IF(F14="sì",L14,"") | I14: =IF(H14="","",IF(H14=M14,"OK","KO")) | J14: no | K14: =IF(J14="sì",M14,"") | L14: =elenco!C137 -> acido iodico | M14: =elenco!D137 -> 0 | N14: =elenco!E137 -> 0 | O14: =elenco!F137 -> 0 | P14: =elenco!G137 -> 6. ACIDI OSSIGENATI | Q14: =elenco!H137 -> 0 | R14: =elenco!I137 -> Gruppo 17
A15: 13 | B15: =elenco!A124 -> 123 | C15: =elenco!B124 -> H₃AsO₄ | E15: =IF(D15="","",IF(D15=L15,"OK","KO")) | F15: no | G15: =IF(F15="sì",L15,"") | I15: =IF(H15="","",IF(H15=M15,"OK","KO")) | J15: no | K15: =IF(J15="sì",M15,"") | L15: =elenco!C124 -> acido arsenico | M15: =elenco!D124 -> 0 | N15: =elenco!E124 -> 0 | O15: =elenco!F124 -> 0 | P15: =elenco!G124 -> 6. ACIDI OSSIGENATI | Q15: =elenco!H124 -> 0 | R15: =elenco!I124 -> Gruppo 15
A16: 14 | B16: =elenco!A19 -> 18 | C16: =elenco!B19 -> Cu₂O | E16: =IF(D16="","",IF(D16=L16,"OK","KO")) | F16: no | G16: =IF(F16="sì",L16,"") | I16: =IF(H16="","",IF(H16=M16,"OK","KO")) | J16: no | K16: =IF(J16="sì",M16,"") | L16: =elenco!C19 -> Ossido rameoso | M16: =elenco!D19 -> Ossido di dirame | N16: =elenco!E19 -> Ossido di rame(I) | O16: =elenco!F19 -> 1 | P16: =elenco!G19 -> 1.OSSIDI | Q16: =elenco!H19 -> OSSIDI BASICI | R16: =elenco!I19 -> 0
A17: 15 | B17: =elenco!A47 -> 46 | C17: =elenco!B47 -> HBr | E17: =IF(D17="","",IF(D17=L17,"OK","KO")) | F17: no | G17: =IF(F17="sì",L17,"") | I17: =IF(H17="","",IF(H17=M17,"OK","KO")) | J17: no | K17: =IF(J17="sì",M17,"") | L17: =elenco!C47 -> Acido bromidrico | M17: =elenco!D47 -> Bromuro di idrogeno | N17: =elenco!E47 -> - | O17: =elenco!F47 -> 0 | P17: =elenco!G47 -> 3. ACIDI BINARI | Q17: =elenco!H47 -> 0 | R17: =elenco!I47 -> 0
A18: 16 | B18: =elenco!A89 -> 88 | C18: =elenco!B89 -> NH3 | E18: =IF(D18="","",IF(D18=L18,"OK","KO")) | F18: no | G18: =IF(F18="sì",L18,"") | I18: =IF(H18="","",IF(H18=M18,"OK","KO")) | J18: no | K18: =IF(J18="sì",M18,"") | L18: =elenco!C89 -> Ammoniaca | M18: =elenco!D89 -> Nitruro di idrogeno | N18: =elenco!E89 -> 0 | O18: =elenco!F89 -> -3 | P18: =elenco!G89 -> 0 | Q18: =elenco!H89 -> 0 | R18: =elenco!I89 -> 0
A19: 17 | B19: =elenco!A56 -> 55 | C19: =elenco!B56 -> Fe(OH)₃ | E19: =IF(D19="","",IF(D19=L19,"OK","KO")) | F19: no | G19: =IF(F19="sì",L19,"") | I19: =IF(H19="","",IF(H19=M19,"OK","KO")) | J19: no | K19: =IF(J19="sì",M19,"") | L19: =elenco!C56 -> Idrossido ferrico | M19: =elenco!D56 -> Triidrossido di ferro | N19: =elenco!E56 -> Idrossido di ferro (III) | O19: =elenco!F56 -> 3 | P19: =elenco!G56 -> 5. IDROSSIDI | Q19: =elenco!H56 -> 0 | R19: =elenco!I56 -> 0
A20: 18 | B20: =elenco!A54 -> 53 | C20: =elenco!B54 -> HNO₂ | E20: =IF(D20="","",IF(D20=L20,"OK","KO")) | F20: no | G20: =IF(F20="sì",L20,"") | I20: =IF(H20="","",IF(H20=M20,"OK","KO")) | J20: no | K20: =IF(J20="sì",M20,"") | L20: =elenco!C54 -> Acido nitroso | M20: =elenco!D54 -> Acido diossonitrico (III) | N20: =elenco!E54 -> Acido nitrico(III) | O20: =elenco!F54 -> 3 | P20: =elenco!G54 -> 6. ACIDI OSSIGENATI | Q20: =elenco!H54 -> 0 | R20: =elenco!I54 -> Gruppo 15 - nella nomenclatura IUPAC - a differenza delle anidridi - si indica la valenza anche nella IUPAC
A21: 19 | B21: =elenco!A51 -> 50 | C21: =elenco!B51 -> H₃PO₄ | E21: =IF(D21="","",IF(D21=L21,"OK","KO")) | F21: no | G21: =IF(F21="sì",L21,"") | I21: =IF(H21="","",IF(H21=M21,"OK","KO")) | J21: no | K21: =IF(J21="sì",M21,"") | L21: =elenco!C51 -> Acido fosforico | M21: =elenco!D51 -> Acido tetrossosfosforico (V) | N21: =elenco!E51 -> Acido fosforico(V) | O21: =elenco!F51 -> 5 | P21: =elenco!G51 -> 6. ACIDI OSSIGENATI | Q21: =elenco!H51 -> 0 | R21: =elenco!I51 -> 0
A22: 20 | B22: =elenco!A53 -> 52 | C22: =elenco!B53 -> HNO₃ | E22: =IF(D22="","",IF(D22=L22,"OK","KO")) | F22: no | G22: =IF(F22="sì",L22,"") | I22: =IF(H22="","",IF(H22=M22,"OK","KO")) | J22: no | K22: =IF(J22="sì",M22,"") | L22: =elenco!C53 -> Acido nitrico | M22: =elenco!D53 -> Acido triossonitrico (IV) | N22: =elenco!E53 -> Acido nitrico(V) | O22: =elenco!F53 -> 5 | P22: =elenco!G53 -> 6. ACIDI OSSIGENATI | Q22: =elenco!H53 -> 0 | R22: =elenco!I53 -> Gruppo 15 - nella nomenclatura IUPAC - a differenza delle anidridi - si indica la valenza anche nella IUPAC
A23: 21 | B23: =elenco!A139 -> 138 | C23: =elenco!B139 -> H₂CrO₄ | E23: =IF(D23="","",IF(D23=L23,"OK","KO")) | F23: no | G23: =IF(F23="sì",L23,"") | I23: =IF(H23="","",IF(H23=M23,"OK","KO")) | J23: no | K23: =IF(J23="sì",M23,"") | L23: =elenco!C139 -> acido cromico | M23: =elenco!D139 -> 0 | N23: =elenco!E139 -> 0 | O23: =elenco!F139 -> + 6 | P23: =elenco!G139 -> 6. ACIDI OSSIGENATI | Q23: =elenco!H139 -> 0 | R23: =elenco!I139 -> da ossido di cromo (VI) - Gruppo 6
A24: 22 | B24: =elenco!A83 -> 82 | C24: =elenco!B83 -> HMnO4 | E24: =IF(D24="","",IF(D24=L24,"OK","KO")) | F24: no | G24: =IF(F24="sì",L24,"") | I24: =IF(H24="","",IF(H24=M24,"OK","KO")) | J24: no | K24: =IF(J24="sì",M24,"") | L24: =elenco!C83 -> Acido permanganico | M24: =elenco!D83 -> Acido tetraossomanganico (VII) | N24: =elenco!E83 -> Acido tetraossomanganico (VII) | O24: =elenco!F83 -> + 7 | P24: =elenco!G83 -> 6. ACIDI OSSIGENATI | Q24: =elenco!H83 -> 0 | R24: =elenco!I83 -> il manganese è un metallo di transizione (blocco d) che può assumere diversi stati di ossidazione: nei più bassi tendere a comportarsi come un metallo, formando ossidi basici (idrossidi con aggiunta di acqua), nei più alti come un non metallo, formando ossidi acidi (acidi con aggiunta di acqua) - Gruppo 7
A25: 23 | B25: =elenco!A24 -> 23 | C25: =elenco!B24 -> PbO | E25: =IF(D25="","",IF(D25=L25,"OK","KO")) | F25: no | G25: =IF(F25="sì",L25,"") | I25: =IF(H25="","",IF(H25=M25,"OK","KO")) | J25: no | K25: =IF(J25="sì",M25,"") | L25: =elenco!C24 -> Ossido piomboso | M25: =elenco!D24 -> Ossido di piombo | N25: =elenco!E24 -> Ossido di piombo(II) | O25: =elenco!F24 -> 2 | P25: =elenco!G24 -> 1.OSSIDI | Q25: =elenco!H24 -> OSSIDI BASICI | R25: =elenco!I24 -> 0
A26: 24 | B26: =elenco!A106 -> 105 | C26: =elenco!B106 -> HPO₃ | E26: =IF(D26="","",IF(D26=L26,"OK","KO")) | F26: no | G26: =IF(F26="sì",L26,"") | I26: =IF(H26="","",IF(H26=M26,"OK","KO")) | J26: no | K26: =IF(J26="sì",M26,"") | L26: =elenco!C106 -> Acido Metafosforico | M26: =elenco!D106 -> acido fosforico (V) | N26: =elenco!E106 -> acido fosforico (V) | O26: =elenco!F106 -> 5 | P26: =elenco!G106 -> 6. ACIDI OSSIGENATI | Q26: =elenco!H106 -> 0 | R26: =elenco!I106 -> da Anidride fosforica P₂O₅ +1H2O
A27: 25 | B27: =elenco!A90 -> 89 | C27: =elenco!B90 -> PH3 | E27: =IF(D27="","",IF(D27=L27,"OK","KO")) | F27: no | G27: =IF(F27="sì",L27,"") | I27: =IF(H27="","",IF(H27=M27,"OK","KO")) | J27: no | K27: =IF(J27="sì",M27,"") | L27: =elenco!C90 -> Fosfina | M27: =elenco!D90 -> Fosfuro di idrogeno | N27: =elenco!E90 -> 0 | O27: =elenco!F90 -> -3 | P27: =elenco!G90 -> 0 | Q27: =elenco!H90 -> 0 | R27: =elenco!I90 -> 0
A28: 26 | B28: =elenco!A123 -> 122 | C28: =elenco!B123 -> HP(OH)₂ | E28: =IF(D28="","",IF(D28=L28,"OK","KO")) | F28: no | G28: =IF(F28="sì",L28,"") | I28: =IF(H28="","",IF(H28=M28,"OK","KO")) | J28: no | K28: =IF(J28="sì",M28,"") | L28: =elenco!C123 -> acido ipofosforoso (o fosfinico) | M28: =elenco!D123 -> 0 | N28: =elenco!E123 -> 0 | O28: =elenco!F123 -> 0 | P28: =elenco!G123 -> 6. ACIDI OSSIGENATI | Q28: =elenco!H123 -> 0 | R28: =elenco!I123 -> Gruppo 15
A29: 27 | B29: =elenco!A92 -> 91 | C29: =elenco!B92 -> B2O3 | E29: =IF(D29="","",IF(D29=L29,"OK","KO")) | F29: no | G29: =IF(F29="sì",L29,"") | I29: =IF(H29="","",IF(H29=M29,"OK","KO")) | J29: no | K29: =IF(J29="sì",M29,"") | L29: =elenco!C92 -> Anidride borica | M29: =elenco!D92 -> Triossido di diboro | N29: =elenco!E92 -> 0 | O29: =elenco!F92 -> 0 | P29: =elenco!G92 -> 1.OSSIDI | Q29: =elenco!H92 -> OSSIDI ACIDI (ANIDRIDI) | R29: =elenco!I92 -> 0
A30: 28 | B30: =elenco!A88 -> 87 | C30: =elenco!B88 -> CH4 | E30: =IF(D30="","",IF(D30=L30,"OK","KO")) | F30: no | G30: =IF(F30="sì",L30,"") | I30: =IF(H30="","",IF(H30=M30,"OK","KO")) | J30: no | K30: =IF(J30="sì",M30,"") | L30: =elenco!C88 -> Metano | M30: =elenco!D88 -> Carburo di idrogeno | N30: =elenco!E88 -> 0 | O30: =elenco!F88 -> -4 | P30: =elenco!G88 -> 0 | Q30: =elenco!H88 -> 0 | R30: =elenco!I88 -> 0
A31: 29 | B31: =elenco!A150 -> 149 | C31: =elenco!B150 -> HCN | E31: =IF(D31="","",IF(D31=L31,"OK","KO")) | F31: no | G31: =IF(F31="sì",L31,"") | I31: =IF(H31="","",IF(H31=M31,"OK","KO")) | J31: no | K31: =IF(J31="sì",M31,"") | L31: =elenco!C150 -> acido cianidrico | M31: =elenco!D150 -> 0 | N31: =elenco!E150 -> 0 | O31: =elenco!F150 -> -3 | P31: =elenco!G150 -> 0 | Q31: =elenco!H150 -> 0 | R31: =elenco!I150 -> n ox C +2, nox N -3
A32: 30 | B32: =elenco!A85 -> 84 | C32: =elenco!B85 -> H2MnO3 | E32: =IF(D32="","",IF(D32=L32,"OK","KO")) | F32: no | G32: =IF(F32="sì",L32,"") | I32: =IF(H32="","",IF(H32=M32,"OK","KO")) | J32: no | K32: =IF(J32="sì",M32,"") | L32: =elenco!C85 -> Acido manganoso | M32: =elenco!D85 -> Acido triossomanganico (IV) | N32: =elenco!E85 -> Acido triossomanganico (IV) | O32: =elenco!F85 -> + 4 | P32: =elenco!G85 -> 6. ACIDI OSSIGENATI | Q32: =elenco!H85 -> 0 | R32: =elenco!I85 -> il manganese è un metallo di transizione (blocco d) che può assumere diversi stati di ossidazione: nei più bassi tendere a comportarsi come un metallo, formando ossidi basici (idrossidi con aggiunta di acqua), nei più alti come un non metallo, formando ossidi acidi (acidi con aggiunta di acqua)
A33: 31 | B33: =elenco!A132 -> 131 | C33: =elenco!B132 -> HBrO₃ | E33: =IF(D33="","",IF(D33=L33,"OK","KO")) | F33: no | G33: =IF(F33="sì",L33,"") | I33: =IF(H33="","",IF(H33=M33,"OK","KO")) | J33: no | K33: =IF(J33="sì",M33,"") | L33: =elenco!C132 -> acido bromico | M33: =elenco!D132 -> 0 | N33: =elenco!E132 -> 0 | O33: =elenco!F132 -> 0 | P33: =elenco!G132 -> 6. ACIDI OSSIGENATI | Q33: =elenco!H132 -> 0 | R33: =elenco!I132 -> Gruppo 17
A34: 32 | B34: =elenco!A5 -> 4 | C34: =elenco!B5 -> Cl₂O | E34: =IF(D34="","",IF(D34=L34,"OK","KO")) | F34: no | G34: =IF(F34="sì",L34,"") | I34: =IF(H34="","",IF(H34=M34,"OK","KO")) | J34: no | K34: =IF(J34="sì",M34,"") | L34: =elenco!C5 -> Anidride ipoclorosa | M34: =elenco!D5 -> Monossido di dicloro | N34: =elenco!E5 -> Ossido di cloro (I) | O34: =elenco!F5 -> 1 | P34: =elenco!G5 -> 1.OSSIDI | Q34: =elenco!H5 -> OSSIDI ACIDI (ANIDRIDI) | R34: =elenco!I5 -> 0
A35: 33 | B35: =elenco!A35 -> 34 | C35: =elenco!B35 -> NO₂ | E35: =IF(D35="","",IF(D35=L35,"OK","KO")) | F35: no | G35: =IF(F35="sì",L35,"") | I35: =IF(H35="","",IF(H35=M35,"OK","KO")) | J35: no | K35: =IF(J35="sì",M35,"") | L35: =elenco!C35 -> ipoazotide | M35: =elenco!D35 -> Diossido di azoto | N35: =elenco!E35 -> Ossido di azoto(IV) | O35: =elenco!F35 -> 4 | P35: =elenco!G35 -> 1.OSSIDI | Q35: =elenco!H35 -> 0 | R35: =elenco!I35 -> Il diossido di azoto (noto anche come ipoazotide, specie se in forma dimera, N2O4)
A36: 34 | B36: =elenco!A14 -> 13 | C36: =elenco!B14 -> MnO | E36: =IF(D36="","",IF(D36=L36,"OK","KO")) | F36: no | G36: =IF(F36="sì",L36,"") | I36: =IF(H36="","",IF(H36=M36,"OK","KO")) | J36: no | K36: =IF(J36="sì",M36,"") | L36: =elenco!C14 -> Ossido manganoso | M36: =elenco!D14 -> Ossido di manganese | N36: =elenco!E14 -> Ossido di manganese (II) | O36: =elenco!F14 -> + 2 | P36: =elenco!G14 -> 1.OSSIDI | Q36: =elenco!H14 -> OSSIDI BASICI | R36: =elenco!I14 -> il manganese è un metallo di transizione (blocco d) che può assumere diversi stati di ossidazione: nei più bassi tendere a comportarsi come un metallo, formando ossidi basici (idrossidi con aggiunta di acqua), nei più alti come un non metallo, formando ossidi acidi (acidi con aggiunta di acqua)
A37: 35 | B37: =elenco!A28 -> 27 | C37: =elenco!B28 -> CO₂ | E37: =IF(D37="","",IF(D37=L37,"OK","KO")) | F37: no | G37: =IF(F37="sì",L37,"") | I37: =IF(H37="","",IF(H37=M37,"OK","KO")) | J37: no | K37: =IF(J37="sì",M37,"") | L37: =elenco!C28 -> Anidride carbonica | M37: =elenco!D28 -> Diossido di carbonio | N37: =elenco!E28 -> Ossido di carbonio(IV) | O37: =elenco!F28 -> 4 | P37: =elenco!G28 -> 1.OSSIDI | Q37: =elenco!H28 -> OSSIDI ACIDI (ANIDRIDI) | R37: =elenco!I28 -> 0
A38: 36 | B38: =elenco!A129 -> 128 | C38: =elenco!B129 -> H₂SeO₃ | E38: =IF(D38="","",IF(D38=L38,"OK","KO")) | F38: no | G38: =IF(F38="sì",L38,"") | I38: =IF(H38="","",IF(H38=M38,"OK","KO")) | J38: no | K38: =IF(J38="sì",M38,"") | L38: =elenco!C129 -> acido selenioso | M38: =elenco!D129 -> 0 | N38: =elenco!E129 -> 0 | O38: =elenco!F129 -> 0 | P38: =elenco!G129 -> 6. ACIDI OSSIGENATI | Q38: =elenco!H129 -> 0 | R38: =elenco!I129 -> Gruppo 16
A39: 37 | B39: =elenco!A105 -> 104 | C39: =elenco!B105 -> CCl₄ | E39: =IF(D39="","",IF(D39=L39,"OK","KO")) | F39: no | G39: =IF(F39="sì",L39,"") | I39: =IF(H39="","",IF(H39=M39,"OK","KO")) | J39: no | K39: =IF(J39="sì",M39,"") | L39: =elenco!C105 -> tetracloruro di carbonio | M39: =elenco!D105 -> tetracloruro di carbonio | N39: =elenco!E105 -> 0 | O39: =elenco!F105 -> 0 | P39: =elenco!G105 -> 4. SALI BINARI | Q39: =elenco!H105 -> 0 | R39: =elenco!I105 -> Alcuni composti (tipo CCl₄, BF₃, PCl₅) non hanno metalli, quindi si usa solo il prefisso numerico (tri-, tetra-, penta-) e la radice dell’elemento.
A40: 38 | B40: =elenco!A108 -> 107 | C40: =elenco!B108 -> H₃PO₄ | E40: =IF(D40="","",IF(D40=L40,"OK","KO")) | F40: no | G40: =IF(F40="sì",L40,"") | I40: =IF(H40="","",IF(H40=M40,"OK","KO")) | J40: no | K40: =IF(J40="sì",M40,"") | L40: =elenco!C108 -> Acido Ortofosforico | M40: =elenco!D108 -> acido fosforico (V) condensato | N40: =elenco!E108 -> acido fosforico (V) condensato | O40: =elenco!F108 -> 5 | P40: =elenco!G108 -> 6. ACIDI OSSIGENATI | Q40: =elenco!H108 -> 0 | R40: =elenco!I108 -> da Anidride fosforica P₂O₅ +3H2O - Gruppo 15
A41: 39 | B41: =elenco!A72 -> 71 | C41: =elenco!B72 -> Na₂SO₄ | E41: =IF(D41="","",IF(D41=L41,"OK","KO")) | F41: no | G41: =IF(F41="sì",L41,"") | I41: =IF(H41="","",IF(H41=M41,"OK","KO")) | J41: no | K41: =IF(J41="sì",M41,"") | L41: =elenco!C72 -> Solfato di sodio | M41: =elenco!D72 -> Solfato di disodio | N41: =elenco!E72 -> Solfato di sodio | O41: =elenco!F72 -> 1 | P41: =elenco!G72 -> 7. SALI OSSIGENATI | Q41: =elenco!H72 -> 0 | R41: =elenco!I72 -> 0
A42: 40 | B42: =elenco!A71 -> 70 | C42: =elenco!B71 -> CaCl₂ | E42: =IF(D42="","",IF(D42=L42,"OK","KO")) | F42: no | G42: =IF(F42="sì",L42,"") | I42: =IF(H42="","",IF(H42=M42,"OK","KO")) | J42: no | K42: =IF(J42="sì",M42,"") | L42: =elenco!C71 -> Cloruro di calcio | M42: =elenco!D71 -> Dicloruro di calcio | N42: =elenco!E71 -> Cloruro di calcio | O42: =elenco!F71 -> 2 | P42: =elenco!G71 -> 4. SALI BINARI | Q42: =elenco!H71 -> 0 | R42: =elenco!I71 -> 0
A43: 41 | B43: =elenco!A81 -> 80 | C43: =elenco!B81 -> Na₂CO₃ | E43: =IF(D43="","",IF(D43=L43,"OK","KO")) | F43: no | G43: =IF(F43="sì",L43,"") | I43: =IF(H43="","",IF(H43=M43,"OK","KO")) | J43: no | K43: =IF(J43="sì",M43,"") | L43: =elenco!C81 -> Carbonato di sodio | M43: =elenco!D81 -> Trioxocarbonato di disodio | N43: =elenco!E81 -> Carbonato(IV) di disodio | O43: =elenco!F81 -> 0 | P43: =elenco!G81 -> 7. SALI OSSIGENATI | Q43: =elenco!H81 -> 0 | R43: =elenco!I81 -> 0
A44: 42 | B44: =elenco!A40 -> 39 | C44: =elenco!B40 -> CaO | E44: =IF(D44="","",IF(D44=L44,"OK","KO")) | F44: no | G44: =IF(F44="sì",L44,"") | I44: =IF(H44="","",IF(H44=M44,"OK","KO")) | J44: no | K44: =IF(J44="sì",M44,"") | L44: =elenco!C40 -> Ossido di calcio | M44: =elenco!D40 -> Ossido di calcio | N44: =elenco!E40 -> Ossido di calcio (II) | O44: =elenco!F40 -> 2 | P44: =elenco!G40 -> 1.OSSIDI | Q44: =elenco!H40 -> OSSIDI BASICI | R44: =elenco!I40 -> 0
A45: 43 | B45: =elenco!A29 -> 28 | C45: =elenco!B29 -> Fe₂O₃ | E45: =IF(D45="","",IF(D45=L45,"OK","KO")) | F45: no | G45: =IF(F45="sì",L45,"") | I45: =IF(H45="","",IF(H45=M45,"OK","KO")) | J45: no | K45: =IF(J45="sì",M45,"") | L45: =elenco!C29 -> Ossido ferrico | M45: =elenco!D29 -> Triossido di diferro | N45: =elenco!E29 -> Ossido di ferro(III) | O45: =elenco!F29 -> 3 | P45: =elenco!G29 -> 1.OSSIDI | Q45: =elenco!H29 -> OSSIDI BASICI | R45: =elenco!I29 -> 0
A46: 44 | B46: =elenco!A117 -> 116 | C46: =elenco!B117 -> H₄SiO₄ | E46: =IF(D46="","",IF(D46=L46,"OK","KO")) | F46: no | G46: =IF(F46="sì",L46,"") | I46: =IF(H46="","",IF(H46=M46,"OK","KO")) | J46: no | K46: =IF(J46="sì",M46,"") | L46: =elenco!C117 -> acido ortosilicico | M46: =elenco!D117 -> 0 | N46: =elenco!E117 -> 0 | O46: =elenco!F117 -> 0 | P46: =elenco!G117 -> 6. ACIDI OSSIGENATI | Q46: =elenco!H117 -> 0 | R46: =elenco!I117 -> Gruppo 14
A47: 45 | B47: =elenco!A43 -> 42 | C47: =elenco!B43 -> HF | E47: =IF(D47="","",IF(D47=L47,"OK","KO")) | F47: no | G47: =IF(F47="sì",L47,"") | I47: =IF(H47="","",IF(H47=M47,"OK","KO")) | J47: no | K47: =IF(J47="sì",M47,"") | L47: =elenco!C43 -> Acido fluoridrico | M47: =elenco!D43 -> Fluoruro di idrogeno | N47: =elenco!E43 -> - | O47: =elenco!F43 -> −1 | P47: =elenco!G43 -> 3. ACIDI BINARI | Q47: =elenco!H43 -> 0 | R47: =elenco!I43 -> 0
A48: 46 | B48: =elenco!A144 -> 143 | C48: =elenco!B144 -> KClO₃ | E48: =IF(D48="","",IF(D48=L48,"OK","KO")) | F48: no | G48: =IF(F48="sì",L48,"") | I48: =IF(H48="","",IF(H48=M48,"OK","KO")) | J48: no | K48: =IF(J48="sì",M48,"") | L48: =elenco!C144 -> clorato di potassio | M48: =elenco!D144 -> Triossoclorato (V) di potassio | N48: =elenco!E144 -> 0 | O48: =elenco!F144 -> 5 | P48: =elenco!G144 -> 7. SALI OSSIGENATI | Q48: =elenco!H144 -> 0 | R48: =elenco!I144 -> 0
A49: 47 | B49: =elenco!A73 -> 72 | C49: =elenco!B73 -> CaCO₃ | E49: =IF(D49="","",IF(D49=L49,"OK","KO")) | F49: no | G49: =IF(F49="sì",L49,"") | I49: =IF(H49="","",IF(H49=M49,"OK","KO")) | J49: no | K49: =IF(J49="sì",M49,"") | L49: =elenco!C73 -> Carbonato di calcio | M49: =elenco!D73 -> triossocarbonato(IV) di calcio | N49: =elenco!E73 -> carbonato(IV) di calcio | O49: =elenco!F73 -> 2 | P49: =elenco!G73 -> 7. SALI OSSIGENATI | Q49: =elenco!H73 -> 0 | R49: =elenco!I73 -> 0
A50: 48 | B50: =elenco!A114 -> 113 | C50: =elenco!B114 -> H₃BO₃ | E50: =IF(D50="","",IF(D50=L50,"OK","KO")) | F50: no | G50: =IF(F50="sì",L50,"") | I50: =IF(H50="","",IF(H50=M50,"OK","KO")) | J50: no | K50: =IF(J50="sì",M50,"") | L50: =elenco!C114 -> acido Ortoborico | M50: =elenco!D114 -> 0 | N50: =elenco!E114 -> 0 | O50: =elenco!F114 -> 0 | P50: =elenco!G114 -> 6. ACIDI OSSIGENATI | Q50: =elenco!H114 -> 0 | R50: =elenco!I114 -> Gruppo 13
A51: 49 | B51: =elenco!A82 -> 81 | C51: =elenco!B82 -> NaNO₂ | E51: =IF(D51="","",IF(D51=L51,"OK","KO")) | F51: no | G51: =IF(F51="sì",L51,"") | I51: =IF(H51="","",IF(H51=M51,"OK","KO")) | J51: no | K51: =IF(J51="sì",M51,"") | L51: =elenco!C82 -> Nitrito di sodio | M51: =elenco!D82 -> Deossinitrato (III) di sodio | N51: =elenco!E82 -> - | O51: =elenco!F82 -> 3 | P51: =elenco!G82 -> 7. SALI OSSIGENATI | Q51: =elenco!H82 -> 0 | R51: =elenco!I82 -> 0
A52: 50 | B52: =elenco!A109 -> 108 | C52: =elenco!B109 -> LiOH | E52: =IF(D52="","",IF(D52=L52,"OK","KO")) | F52: no | G52: =IF(F52="sì",L52,"") | I52: =IF(H52="","",IF(H52=M52,"OK","KO")) | J52: no | K52: =IF(J52="sì",M52,"") | L52: =elenco!C109 -> Idrossido di litio | M52: =elenco!D109 -> Idrossido di litio | N52: =elenco!E109 -> 0 | O52: =elenco!F109 -> 0 | P52: =elenco!G109 -> 5. IDROSSIDI | Q52: =elenco!H109 -> 0 | R52: =elenco!I109 -> 0
A53: 51 | B53: =elenco!A128 -> 127 | C53: =elenco!B128 -> H₂SeO₄ | E53: =IF(D53="","",IF(D53=L53,"OK","KO")) | F53: no | G53: =IF(F53="sì",L53,"") | I53: =IF(H53="","",IF(H53=M53,"OK","KO")) | J53: no | K53: =IF(J53="sì",M53,"") | L53: =elenco!C128 -> acido selenico | M53: =elenco!D128 -> 0 | N53: =elenco!E128 -> 0 | O53: =elenco!F128 -> 0 | P53: =elenco!G128 -> 6. ACIDI OSSIGENATI | Q53: =elenco!H128 -> 0 | R53: =elenco!I128 -> Gruppo 16
A54: 52 | B54: =elenco!A55 -> 54 | C54: =elenco!B55 -> Ca(OH)₂ | E54: =IF(D54="","",IF(D54=L54,"OK","KO")) | F54: no | G54: =IF(F54="sì",L54,"") | I54: =IF(H54="","",IF(H54=M54,"OK","KO")) | J54: no | K54: =IF(J54="sì",M54,"") | L54: =elenco!C55 -> Calce spenta | M54: =elenco!D55 -> Diidrossido di calcio | N54: =elenco!E55 -> idrossido di calcio (II) | O54: =elenco!F55 -> 2 | P54: =elenco!G55 -> 5. IDROSSIDI | Q54: =elenco!H55 -> 0 | R54: =elenco!I55 -> 0
A55: 53 | B55: =elenco!A101 -> 100 | C55: =elenco!B101 -> MnI₂ | E55: =IF(D55="","",IF(D55=L55,"OK","KO")) | F55: no | G55: =IF(F55="sì",L55,"") | I55: =IF(H55="","",IF(H55=M55,"OK","KO")) | J55: no | K55: =IF(J55="sì",M55,"") | L55: =elenco!C101 -> ioduro di manganese | M55: =elenco!D101 -> diioduro di manganese | N55: =elenco!E101 -> ioduro di manganese(II) | O55: =elenco!F101 -> 0 | P55: =elenco!G101 -> 4. SALI BINARI | Q55: =elenco!H101 -> 0 | R55: =elenco!I101 -> 0
A56: 54 | B56: =elenco!A149 -> 148 | C56: =elenco!B149 -> K3PO4 | E56: =IF(D56="","",IF(D56=L56,"OK","KO")) | F56: no | G56: =IF(F56="sì",L56,"") | I56: =IF(H56="","",IF(H56=M56,"OK","KO")) | J56: no | K56: =IF(J56="sì",M56,"") | L56: =elenco!C149 -> fosfato di potassio | M56: =elenco!D149 -> Tetraossofosfato (V) di potassio | N56: =elenco!E149 -> 0 | O56: =elenco!F149 -> 0 | P56: =elenco!G149 -> 7. SALI OSSIGENATI | Q56: =elenco!H149 -> 0 | R56: =elenco!I149 -> 0
A57: 55 | B57: =elenco!A118 -> 117 | C57: =elenco!B118 -> (H₂SiO₃)ₙ | E57: =IF(D57="","",IF(D57=L57,"OK","KO")) | F57: no | G57: =IF(F57="sì",L57,"") | I57: =IF(H57="","",IF(H57=M57,"OK","KO")) | J57: no | K57: =IF(J57="sì",M57,"") | L57: =elenco!C118 -> acido metasilicico | M57: =elenco!D118 -> 0 | N57: =elenco!E118 -> 0 | O57: =elenco!F118 -> 0 | P57: =elenco!G118 -> 6. ACIDI OSSIGENATI | Q57: =elenco!H118 -> 0 | R57: =elenco!I118 -> Gruppo 14
A58: 56 | B58: =elenco!A26 -> 25 | C58: =elenco!B26 -> Al₂O₃ | E58: =IF(D58="","",IF(D58=L58,"OK","KO")) | F58: no | G58: =IF(F58="sì",L58,"") | I58: =IF(H58="","",IF(H58=M58,"OK","KO")) | J58: no | K58: =IF(J58="sì",M58,"") | L58: =elenco!C26 -> Allumina | M58: =elenco!D26 -> Triossido di dialluminio | N58: =elenco!E26 -> ossido di alluminio (III) | O58: =elenco!F26 -> 3 | P58: =elenco!G26 -> 1.OSSIDI | Q58: =elenco!H26 -> OSSIDI BASICI | R58: =elenco!I26 -> 0
A59: 57 | B59: =elenco!A70 -> 69 | C59: =elenco!B70 -> NaCl | E59: =IF(D59="","",IF(D59=L59,"OK","KO")) | F59: no | G59: =IF(F59="sì",L59,"") | I59: =IF(H59="","",IF(H59=M59,"OK","KO")) | J59: no | K59: =IF(J59="sì",M59,"") | L59: =elenco!C70 -> Cloruro di sodio | M59: =elenco!D70 -> Cloruro di sodio | N59: =elenco!E70 -> Cloruro di sodio | O59: =elenco!F70 -> 1 | P59: =elenco!G70 -> 4. SALI BINARI | Q59: =elenco!H70 -> 0 | R59: =elenco!I70 -> 0
A60: 58 | B60: =elenco!A74 -> 73 | C60: =elenco!B74 -> KNO₃ | E60: =IF(D60="","",IF(D60=L60,"OK","KO")) | F60: no | G60: =IF(F60="sì",L60,"") | I60: =IF(H60="","",IF(H60=M60,"OK","KO")) | J60: no | K60: =IF(J60="sì",M60,"") | L60: =elenco!C74 -> Nitrato di potassio | M60: =elenco!D74 -> Triossonitrato (V) di potassio | N60: =elenco!E74 -> 0 | O60: =elenco!F74 -> 5 | P60: =elenco!G74 -> 7. SALI OSSIGENATI | Q60: =elenco!H74 -> 0 | R60: =elenco!I74 -> 0
A61: 59 | B61: =elenco!A52 -> 51 | C61: =elenco!B52 -> H₃PO₃ | E61: =IF(D61="","",IF(D61=L61,"OK","KO")) | F61: no | G61: =IF(F61="sì",L61,"") | I61: =IF(H61="","",IF(H61=M61,"OK","KO")) | J61: no | K61: =IF(J61="sì",M61,"") | L61: =elenco!C52 -> Acido fosforoso | M61: =elenco!D52 -> Acido triossofosforico (III) | N61: =elenco!E52 -> Acido fosforico(III) | O61: =elenco!F52 -> 3 | P61: =elenco!G52 -> 6. ACIDI OSSIGENATI | Q61: =elenco!H52 -> 0 | R61: =elenco!I52 -> 0
A62: 60 | B62: =elenco!A39 -> 38 | C62: =elenco!B39 -> ZnO | E62: =IF(D62="","",IF(D62=L62,"OK","KO")) | F62: no | G62: =IF(F62="sì",L62,"") | I62: =IF(H62="","",IF(H62=M62,"OK","KO")) | J62: no | K62: =IF(J62="sì",M62,"") | L62: =elenco!C39 -> Ossido di zinco | M62: =elenco!D39 -> Ossido di zinco | N62: =elenco!E39 -> - | O62: =elenco!F39 -> 0 | P62: =elenco!G39 -> 1.OSSIDI | Q62: =elenco!H39 -> 0 | R62: =elenco!I39 -> 0
A63: 61 | B63: =elenco!A86 -> 85 | C63: =elenco!B86 -> NaH | E63: =IF(D63="","",IF(D63=L63,"OK","KO")) | F63: no | G63: =IF(F63="sì",L63,"") | I63: =IF(H63="","",IF(H63=M63,"OK","KO")) | J63: no | K63: =IF(J63="sì",M63,"") | L63: =elenco!C86 -> Idruro di sodio | M63: =elenco!D86 -> 0 | N63: =elenco!E86 -> 0 | O63: =elenco!F86 -> 1 | P63: =elenco!G86 -> 2. IDRURI | Q63: =elenco!H86 -> 0 | R63: =elenco!I86 -> 0
A64: 62 | B64: =elenco!A77 -> 76 | C64: =elenco!B77 -> FePO₄ | E64: =IF(D64="","",IF(D64=L64,"OK","KO")) | F64: no | G64: =IF(F64="sì",L64,"") | I64: =IF(H64="","",IF(H64=M64,"OK","KO")) | J64: no | K64: =IF(J64="sì",M64,"") | L64: =elenco!C77 -> Fosfato ferrico | M64: =elenco!D77 -> Fosfato di ferro | N64: =elenco!E77 -> Fosfato di ferro(III) | O64: =elenco!F77 -> 0 | P64: =elenco!G77 -> 7. SALI OSSIGENATI | Q64: =elenco!H77 -> 0 | R64: =elenco!I77 -> 0
A65: 63 | B65: =elenco!A147 -> 146 | C65: =elenco!B147 -> K₂CrO₄ | E65: =IF(D65="","",IF(D65=L65,"OK","KO")) | F65: no | G65: =IF(F65="sì",L65,"") | I65: =IF(H65="","",IF(H65=M65,"OK","KO")) | J65: no | K65: =IF(J65="sì",M65,"") | L65: =elenco!C147 -> cromato di potassio | M65: =elenco!D147 -> Tetraossocromato (VI) di dipotassio | N65: =elenco!E147 -> 0 | O65: =elenco!F147 -> 6 | P65: =elenco!G147 -> 7. SALI OSSIGENATI | Q65: =elenco!H147 -> 0 | R65: =elenco!I147 -> 0
A66: 64 | B66: =elenco!A69 -> 68 | C66: =elenco!B69 -> KBr | E66: =IF(D66="","",IF(D66=L66,"OK","KO")) | F66: no | G66: =IF(F66="sì",L66,"") | I66: =IF(H66="","",IF(H66=M66,"OK","KO")) | J66: no | K66: =IF(J66="sì",M66,"") | L66: =elenco!C69 -> Bromuro di potassio | M66: =elenco!D69 -> Bromuro di potassio | N66: =elenco!E69 -> - | O66: =elenco!F69 -> 0 | P66: =elenco!G69 -> 4. SALI BINARI | Q66: =elenco!H69 -> 0 | R66: =elenco!I69 -> 0
A67: 65 | B67: =elenco!A80 -> 79 | C67: =elenco!B80 -> K₂SO₃ | E67: =IF(D67="","",IF(D67=L67,"OK","KO")) | F67: no | G67: =IF(F67="sì",L67,"") | I67: =IF(H67="","",IF(H67=M67,"OK","KO")) | J67: no | K67: =IF(J67="sì",M67,"") | L67: =elenco!C80 -> Solfito di potassio | M67: =elenco!D80 -> Triossosolfato (IV) di dipotassio | N67: =elenco!E80 -> 0 | O67: =elenco!F80 -> 4 | P67: =elenco!G80 -> 7. SALI OSSIGENATI | Q67: =elenco!H80 -> 0 | R67: =elenco!I80 -> 0
A68: 66 | B68: =elenco!A27 -> 26 | C68: =elenco!B27 -> CO | E68: =IF(D68="","",IF(D68=L68,"OK","KO")) | F68: no | G68: =IF(F68="sì",L68,"") | I68: =IF(H68="","",IF(H68=M68,"OK","KO")) | J68: no | K68: =IF(J68="sì",M68,"") | L68: =elenco!C27 -> Ossido di carbonio | M68: =elenco!D27 -> Monossido di carbonio | N68: =elenco!E27 -> Ossido di carbonio(II) | O68: =elenco!F27 -> 2 | P68: =elenco!G27 -> 1.OSSIDI | Q68: =elenco!H27 -> OSSIDI ACIDI (ANIDRIDI) | R68: =elenco!I27 -> 0
A69: 67 | B69: =elenco!A6 -> 5 | C69: =elenco!B6 -> HClO₄ | E69: =IF(D69="","",IF(D69=L69,"OK","KO")) | F69: no | G69: =IF(F69="sì",L69,"") | I69: =IF(H69="","",IF(H69=M69,"OK","KO")) | J69: no | K69: =IF(J69="sì",M69,"") | L69: =elenco!C6 -> Acido perclorico | M69: =elenco!D6 -> Acido tetraossosclorico (VII) | N69: =elenco!E6 -> Acido tetraossosclorico(VII) | O69: =elenco!F6 -> 7 | P69: =elenco!G6 -> 6. ACIDI OSSIGENATI | Q69: =elenco!H6 -> 0 | R69: =elenco!I6 -> Gruppo 17
A70: 68 | B70: =elenco!A57 -> 56 | C70: =elenco!B57 -> Fe(OH)₂ | E70: =IF(D70="","",IF(D70=L70,"OK","KO")) | F70: no | G70: =IF(F70="sì",L70,"") | I70: =IF(H70="","",IF(H70=M70,"OK","KO")) | J70: no | K70: =IF(J70="sì",M70,"") | L70: =elenco!C57 -> Idrossido ferroso | M70: =elenco!D57 -> Diidrossido di ferro | N70: =elenco!E57 -> Idrossido di ferro(II) | O70: =elenco!F57 -> 2 | P70: =elenco!G57 -> 5. IDROSSIDI | Q70: =elenco!H57 -> 0 | R70: =elenco!I57 -> 0
A71: 69 | B71: =elenco!A58 -> 57 | C71: =elenco!B58 -> Mn(OH)3 | E71: =IF(D71="","",IF(D71=L71,"OK","KO")) | F71: no | G71: =IF(F71="sì",L71,"") | I71: =IF(H71="","",IF(H71=M71,"OK","KO")) | J71: no | K71: =IF(J71="sì",M71,"") | L71: =elenco!C58 -> Idrossido manganico | M71: =elenco!D58 -> Triidrossido di manganese | N71: =elenco!E58 -> Idrossido di manganese (III) | O71: =elenco!F58 -> + 3 | P71: =elenco!G58 -> 5. IDROSSIDI | Q71: =elenco!H58 -> 0 | R71: =elenco!I58 -> il manganese è un metallo di transizione (blocco d) che può assumere diversi stati di ossidazione: nei più bassi tendere a comportarsi come un metallo, formando ossidi basici, nei più alti come un non metallo, formando ossidi acidi
A72: 70 | B72: =elenco!A119 -> 118 | C72: =elenco!B119 -> H₂N₂O₂ | E72: =IF(D72="","",IF(D72=L72,"OK","KO")) | F72: no | G72: =IF(F72="sì",L72,"") | I72: =IF(H72="","",IF(H72=M72,"OK","KO")) | J72: no | K72: =IF(J72="sì",M72,"") | L72: =elenco!C119 -> Acido iponitroso | M72: =elenco!D119 -> Acido diossidoazoto (I) | N72: =elenco!E119 -> Acido iponitroso (I) | O72: =elenco!F119 -> 1 | P72: =elenco!G119 -> 6. ACIDI OSSIGENATI | Q72: =elenco!H119 -> 0 | R72: =elenco!I119 -> Gruppo 15
A73: 71 | B73: =elenco!A136 -> 135 | C73: =elenco!B136 -> HIO₄ | E73: =IF(D73="","",IF(D73=L73,"OK","KO")) | F73: no | G73: =IF(F73="sì",L73,"") | I73: =IF(H73="","",IF(H73=M73,"OK","KO")) | J73: no | K73: =IF(J73="sì",M73,"") | L73: =elenco!C136 -> acido periodico | M73: =elenco!D136 -> 0 | N73: =elenco!E136 -> 0 | O73: =elenco!F136 -> 0 | P73: =elenco!G136 -> 6. ACIDI OSSIGENATI | Q73: =elenco!H136 -> 0 | R73: =elenco!I136 -> Gruppo 17
A74: 72 | B74: =elenco!A20 -> 19 | C74: =elenco!B20 -> Cu(OH)₂ | E74: =IF(D74="","",IF(D74=L74,"OK","KO")) | F74: no | G74: =IF(F74="sì",L74,"") | I74: =IF(H74="","",IF(H74=M74,"OK","KO")) | J74: no | K74: =IF(J74="sì",M74,"") | L74: =elenco!C20 -> Idrossido rameico | M74: =elenco!D20 -> Idrossido di rame | N74: =elenco!E20 -> Idrossido di rame(II) | O74: =elenco!F20 -> + 2 | P74: =elenco!G20 -> 5. IDROSSIDI | Q74: =elenco!H20 -> 0 | R74: =elenco!I20 -> 0
A75: 73 | B75: =elenco!A7 -> 6 | C75: =elenco!B7 -> HClO₃ | E75: =IF(D75="","",IF(D75=L75,"OK","KO")) | F75: no | G75: =IF(F75="sì",L75,"") | I75: =IF(H75="","",IF(H75=M75,"OK","KO")) | J75: no | K75: =IF(J75="sì",M75,"") | L75: =elenco!C7 -> Acido clorico | M75: =elenco!D7 -> Acido triossoclorico (V) | N75: =elenco!E7 -> Acido triossoclorico(V) | O75: =elenco!F7 -> 5 | P75: =elenco!G7 -> 6. ACIDI OSSIGENATI | Q75: =elenco!H7 -> 0 | R75: =elenco!I7 -> Gruppo 17
A76: 74 | B76: =elenco!A146 -> 145 | C76: =elenco!B146 -> KMnO₄ | E76: =IF(D76="","",IF(D76=L76,"OK","KO")) | F76: no | G76: =IF(F76="sì",L76,"") | I76: =IF(H76="","",IF(H76=M76,"OK","KO")) | J76: no | K76: =IF(J76="sì",M76,"") | L76: =elenco!C146 -> permanganato di potassio | M76: =elenco!D146 -> Tetraossomanganato (VI) di potassio | N76: =elenco!E146 -> 0 | O76: =elenco!F146 -> 6 | P76: =elenco!G146 -> 7. SALI OSSIGENATI | Q76: =elenco!H146 -> 0 | R76: =elenco!I146 -> 0
A77: 75 | B77: =elenco!A23 -> 22 | C77: =elenco!B23 -> PbO₂ | E77: =IF(D77="","",IF(D77=L77,"OK","KO")) | F77: no | G77: =IF(F77="sì",L77,"") | I77: =IF(H77="","",IF(H77=M77,"OK","KO")) | J77: no | K77: =IF(J77="sì",M77,"") | L77: =elenco!C23 -> Ossido piombico | M77: =elenco!D23 -> Diossido di piombo | N77: =elenco!E23 -> Ossido di piombo(IV) | O77: =elenco!F23 -> 4 | P77: =elenco!G23 -> 1.OSSIDI | Q77: =elenco!H23 -> 0 | R77: =elenco!I23 -> 0
A78: 76 | B78: =elenco!A93 -> 92 | C78: =elenco!B93 -> P₂O3 | E78: =IF(D78="","",IF(D78=L78,"OK","KO")) | F78: no | G78: =IF(F78="sì",L78,"") | I78: =IF(H78="","",IF(H78=M78,"OK","KO")) | J78: no | K78: =IF(J78="sì",M78,"") | L78: =elenco!C93 -> Anidride fosforosa | M78: =elenco!D93 -> Triossido di difosforo | N78: =elenco!E93 -> Ossido di fosforo(III) | O78: =elenco!F93 -> 3 | P78: =elenco!G93 -> 1.OSSIDI | Q78: =elenco!H93 -> OSSIDI ACIDI (ANIDRIDI) | R78: =elenco!I93 -> 0
A79: 77 | B79: =elenco!A21 -> 20 | C79: =elenco!B21 -> CuCl | E79: =IF(D79="","",IF(D79=L79,"OK","KO")) | F79: no | G79: =IF(F79="sì",L79,"") | I79: =IF(H79="","",IF(H79=M79,"OK","KO")) | J79: no | K79: =IF(J79="sì",M79,"") | L79: =elenco!C21 -> Cloruro rameoso | M79: =elenco!D21 -> Cloruro di rame | N79: =elenco!E21 -> Cloruro di rame (I) | O79: =elenco!F21 -> 1 | P79: =elenco!G21 -> 4. SALI BINARI | Q79: =elenco!H21 -> 0 | R79: =elenco!I21 -> 0
A80: 78 | B80: =elenco!A59 -> 58 | C80: =elenco!B59 -> Mn(OH)2 | E80: =IF(D80="","",IF(D80=L80,"OK","KO")) | F80: no | G80: =IF(F80="sì",L80,"") | I80: =IF(H80="","",IF(H80=M80,"OK","KO")) | J80: no | K80: =IF(J80="sì",M80,"") | L80: =elenco!C59 -> Idrossido manganoso | M80: =elenco!D59 -> Diidrossido di manganese | N80: =elenco!E59 -> Idrossido di manganese (II) | O80: =elenco!F59 -> + 2 | P80: =elenco!G59 -> 5. IDROSSIDI | Q80: =elenco!H59 -> 0 | R80: =elenco!I59 -> il manganese è un metallo di transizione (blocco d) che può assumere diversi stati di ossidazione: nei più bassi tendere a comportarsi come un metallo, formando ossidi basici, nei più alti come un non metallo, formando ossidi acidi
A81: 79 | B81: =elenco!A8 -> 7 | C81: =elenco!B8 -> HClO₂ | E81: =IF(D81="","",IF(D81=L81,"OK","KO")) | F81: no | G81: =IF(F81="sì",L81,"") | I81: =IF(H81="","",IF(H81=M81,"OK","KO")) | J81: no | K81: =IF(J81="sì",M81,"") | L81: =elenco!C8 -> Acido cloroso | M81: =elenco!D8 -> Acido diossoclorico (III) | N81: =elenco!E8 -> Acido diossoclorico(III) | O81: =elenco!F8 -> 3 | P81: =elenco!G8 -> 6. ACIDI OSSIGENATI | Q81: =elenco!H8 -> 0 | R81: =elenco!I8 -> Gruppo 17
A82: 80 | B82: =elenco!A133 -> 132 | C82: =elenco!B133 -> HBrO₂ | E82: =IF(D82="","",IF(D82=L82,"OK","KO")) | F82: no | G82: =IF(F82="sì",L82,"") | I82: =IF(H82="","",IF(H82=M82,"OK","KO")) | J82: no | K82: =IF(J82="sì",M82,"") | L82: =elenco!C133 -> acido bromoso | M82: =elenco!D133 -> 0 | N82: =elenco!E133 -> 0 | O82: =elenco!F133 -> 0 | P82: =elenco!G133 -> 6. ACIDI OSSIGENATI | Q82: =elenco!H133 -> 0 | R82: =elenco!I133 -> Gruppo 17
A83: 81 | B83: =elenco!A91 -> 90 | C83: =elenco!B91 -> Ag2O | E83: =IF(D83="","",IF(D83=L83,"OK","KO")) | F83: no | G83: =IF(F83="sì",L83,"") | I83: =IF(H83="","",IF(H83=M83,"OK","KO")) | J83: no | K83: =IF(J83="sì",M83,"") | L83: =elenco!C91 -> Ossido di argento | M83: =elenco!D91 -> Ossido di diargento | N83: =elenco!E91 -> Ossido di argento (I) | O83: =elenco!F91 -> 1 | P83: =elenco!G91 -> 1.OSSIDI | Q83: =elenco!H91 -> 0 | R83: =elenco!I91 -> 0
A84: 82 | B84: =elenco!A32 -> 31 | C84: =elenco!B32 -> H₂O | E84: =IF(D84="","",IF(D84=L84,"OK","KO")) | F84: no | G84: =IF(F84="sì",L84,"") | I84: =IF(H84="","",IF(H84=M84,"OK","KO")) | J84: no | K84: =IF(J84="sì",M84,"") | L84: =elenco!C32 -> Acqua o ossidano | M84: =elenco!D32 -> Ossido di diidrogeno | N84: =elenco!E32 -> Ossido di idrogeno(II) | O84: =elenco!F32 -> −2 | P84: =elenco!G32 -> 1.OSSIDI | Q84: =elenco!H32 -> 0 | R84: =elenco!I32 -> 0
A85: 83 | B85: =elenco!A122 -> 121 | C85: =elenco!B122 -> H₂PO₂(OH) | E85: =IF(D85="","",IF(D85=L85,"OK","KO")) | F85: no | G85: =IF(F85="sì",L85,"") | I85: =IF(H85="","",IF(H85=M85,"OK","KO")) | J85: no | K85: =IF(J85="sì",M85,"") | L85: =elenco!C122 -> acido fosforoso | M85: =elenco!D122 -> 0 | N85: =elenco!E122 -> 0 | O85: =elenco!F122 -> 0 | P85: =elenco!G122 -> 6. ACIDI OSSIGENATI | Q85: =elenco!H122 -> 0 | R85: =elenco!I122 -> Gruppo 15
A86: 84 | B86: =elenco!A68 -> 67 | C86: =elenco!B68 -> FeCl₃ | E86: =IF(D86="","",IF(D86=L86,"OK","KO")) | F86: no | G86: =IF(F86="sì",L86,"") | I86: =IF(H86="","",IF(H86=M86,"OK","KO")) | J86: no | K86: =IF(J86="sì",M86,"") | L86: =elenco!C68 -> Cloruro ferrico | M86: =elenco!D68 -> Tricloruro di ferro | N86: =elenco!E68 -> Cloruro di ferro(III) | O86: =elenco!F68 -> 3 | P86: =elenco!G68 -> 4. SALI BINARI | Q86: =elenco!H68 -> 0 | R86: =elenco!I68 -> 0
A87: 85 | B87: =elenco!A41 -> 40 | C87: =elenco!B41 -> Na₂O | E87: =IF(D87="","",IF(D87=L87,"OK","KO")) | F87: no | G87: =IF(F87="sì",L87,"") | I87: =IF(H87="","",IF(H87=M87,"OK","KO")) | J87: no | K87: =IF(J87="sì",M87,"") | L87: =elenco!C41 -> Ossido di sodio | M87: =elenco!D41 -> Ossido di disodio | N87: =elenco!E41 -> Ossido di sodio (I) | O87: =elenco!F41 -> 1 | P87: =elenco!G41 -> 1.OSSIDI | Q87: =elenco!H41 -> OSSIDI BASICI | R87: =elenco!I41 -> 0
A88: 86 | B88: =elenco!A102 -> 101 | C88: =elenco!B102 -> PCl₅ | E88: =IF(D88="","",IF(D88=L88,"OK","KO")) | F88: no | G88: =IF(F88="sì",L88,"") | I88: =IF(H88="","",IF(H88=M88,"OK","KO")) | J88: no | K88: =IF(J88="sì",M88,"") | L88: =elenco!C102 -> pentacloruro di fosforo | M88: =elenco!D102 -> pentacloruro di fosforo | N88: =elenco!E102 -> 0 | O88: =elenco!F102 -> 0 | P88: =elenco!G102 -> 4. SALI BINARI | Q88: =elenco!H102 -> 0 | R88: =elenco!I102 -> Alcuni composti (tipo CCl₄, BF₃, PCl₅) non hanno metalli, quindi si usa solo il prefisso numerico (tri-, tetra-, penta-) e la radice dell’elemento.
A89: 87 | B89: =elenco!A2 -> 1 | C89: =elenco!B2 -> Cl₂O₇ | E89: =IF(D89="","",IF(D89=L89,"OK","KO")) | F89: no | G89: =IF(F89="sì",L89,"") | I89: =IF(H89="","",IF(H89=M89,"OK","KO")) | J89: no | K89: =IF(J89="sì",M89,"") | L89: =elenco!C2 -> Anidride perclorica | M89: =elenco!D2 -> Eptaossido di dicloro | N89: =elenco!E2 -> Ossido di cloro (VII) | O89: =elenco!F2 -> 7 | P89: =elenco!G2 -> 1.OSSIDI | Q89: =elenco!H2 -> OSSIDI ACIDI (ANIDRIDI) | R89: =elenco!I2 -> 0
A90: 88 | B90: =elenco!A38 -> 37 | C90: =elenco!B38 -> SO₃ | E90: =IF(D90="","",IF(D90=L90,"OK","KO")) | F90: no | G90: =IF(F90="sì",L90,"") | I90: =IF(H90="","",IF(H90=M90,"OK","KO")) | J90: no | K90: =IF(J90="sì",M90,"") | L90: =elenco!C38 -> Anidride solforica | M90: =elenco!D38 -> Triossido di zolfo | N90: =elenco!E38 -> Ossido di zolfo(VI) | O90: =elenco!F38 -> 6 | P90: =elenco!G38 -> 1.OSSIDI | Q90: =elenco!H38 -> OSSIDI ACIDI (ANIDRIDI) | R90: =elenco!I38 -> 0
A91: 89 | B91: =elenco!A145 -> 144 | C91: =elenco!B145 -> Zn(ClO₄)₂ | E91: =IF(D91="","",IF(D91=L91,"OK","KO")) | F91: no | G91: =IF(F91="sì",L91,"") | I91: =IF(H91="","",IF(H91=M91,"OK","KO")) | J91: no | K91: =IF(J91="sì",M91,"") | L91: =elenco!C145 -> perclorato di zinco | M91: =elenco!D145 -> 0 | N91: =elenco!E145 -> 0 | O91: =elenco!F145 -> 0 | P91: =elenco!G145 -> 7. SALI OSSIGENATI | Q91: =elenco!H145 -> 0 | R91: =elenco!I145 -> 0
A92: 90 | B92: =elenco!A12 -> 11 | C92: =elenco!B12 -> MnO2 | E92: =IF(D92="","",IF(D92=L92,"OK","KO")) | F92: no | G92: =IF(F92="sì",L92,"") | I92: =IF(H92="","",IF(H92=M92,"OK","KO")) | J92: no | K92: =IF(J92="sì",M92,"") | L92: =elenco!C12 -> Anidride manganosa | M92: =elenco!D12 -> Diossido di manganese | N92: =elenco!E12 -> Ossido di manganese (IV) | O92: =elenco!F12 -> + 4 | P92: =elenco!G12 -> 1.OSSIDI | Q92: =elenco!H12 -> OSSIDI ACIDI (ANIDRIDI) | R92: =elenco!I12 -> il manganese è un metallo di transizione (blocco d) che può assumere diversi stati di ossidazione: nei più bassi tendere a comportarsi come un metallo, formando ossidi basici (idrossidi con aggiunta di acqua), nei più alti come un non metallo, formando ossidi acidi (acidi con aggiunta di acqua)
A93: 91 | B93: =elenco!A25 -> 24 | C93: =elenco!B25 -> Pb(OH)₂ | E93: =IF(D93="","",IF(D93=L93,"OK","KO")) | F93: no | G93: =IF(F93="sì",L93,"") | I93: =IF(H93="","",IF(H93=M93,"OK","KO")) | J93: no | K93: =IF(J93="sì",M93,"") | L93: =elenco!C25 -> Idrossido piomboso | M93: =elenco!D25 -> Idrossido di piombo | N93: =elenco!E25 -> Idrossido di piombo(II) | O93: =elenco!F25 -> 2 | P93: =elenco!G25 -> 5. IDROSSIDI | Q93: =elenco!H25 -> 0 | R93: =elenco!I25 -> 0
A94: 92 | B94: =elenco!A148 -> 147 | C94: =elenco!B148 -> K₂Cr₂O₇ | E94: =IF(D94="","",IF(D94=L94,"OK","KO")) | F94: no | G94: =IF(F94="sì",L94,"") | I94: =IF(H94="","",IF(H94=M94,"OK","KO")) | J94: no | K94: =IF(J94="sì",M94,"") | L94: =elenco!C148 -> bicromato di potassio | M94: =elenco!D148 -> Eptaossobicromato (V) di dipotassio | N94: =elenco!E148 -> 0 | O94: =elenco!F148 -> 5 | P94: =elenco!G148 -> 7. SALI OSSIGENATI | Q94: =elenco!H148 -> 0 | R94: =elenco!I148 -> 0
A95: 93 | B95: =elenco!A103 -> 102 | C95: =elenco!B103 -> BF₃ | E95: =IF(D95="","",IF(D95=L95,"OK","KO")) | F95: no | G95: =IF(F95="sì",L95,"") | I95: =IF(H95="","",IF(H95=M95,"OK","KO")) | J95: no | K95: =IF(J95="sì",M95,"") | L95: =elenco!C103 -> trifluoruro di boro | M95: =elenco!D103 -> trifluoruro di boro | N95: =elenco!E103 -> 0 | O95: =elenco!F103 -> 0 | P95: =elenco!G103 -> 4. SALI BINARI | Q95: =elenco!H103 -> 0 | R95: =elenco!I103 -> Alcuni composti (tipo CCl₄, BF₃, PCl₅) non hanno metalli, quindi si usa solo il prefisso numerico (tri-, tetra-, penta-) e la radice dell’elemento.
A96: 94 | B96: =elenco!A121 -> 120 | C96: =elenco!B121 -> (HO)₂OP–PO(OH)₂ | E96: =IF(D96="","",IF(D96=L96,"OK","KO")) | F96: no | G96: =IF(F96="sì",L96,"") | I96: =IF(H96="","",IF(H96=M96,"OK","KO")) | J96: no | K96: =IF(J96="sì",M96,"") | L96: =elenco!C121 -> acido ipofosforico | M96: =elenco!D121 -> 0 | N96: =elenco!E121 -> 0 | O96: =elenco!F121 -> 0 | P96: =elenco!G121 -> 6. ACIDI OSSIGENATI | Q96: =elenco!H121 -> 0 | R96: =elenco!I121 -> Gruppo 15
A97: 95 | B97: =elenco!A115 -> 114 | C97: =elenco!B115 -> (HBO₂)ₙ | E97: =IF(D97="","",IF(D97=L97,"OK","KO")) | F97: no | G97: =IF(F97="sì",L97,"") | I97: =IF(H97="","",IF(H97=M97,"OK","KO")) | J97: no | K97: =IF(J97="sì",M97,"") | L97: =elenco!C115 -> acido metaborico | M97: =elenco!D115 -> 0 | N97: =elenco!E115 -> 0 | O97: =elenco!F115 -> 0 | P97: =elenco!G115 -> 6. ACIDI OSSIGENATI | Q97: =elenco!H115 -> 0 | R97: =elenco!I115 -> Gruppo 13
A98: 96 | B98: =elenco!A15 -> 14 | C98: =elenco!B15 -> CrO3 | E98: =IF(D98="","",IF(D98=L98,"OK","KO")) | F98: no | G98: =IF(F98="sì",L98,"") | I98: =IF(H98="","",IF(H98=M98,"OK","KO")) | J98: no | K98: =IF(J98="sì",M98,"") | L98: =elenco!C15 -> Anidride cromica | M98: =elenco!D15 -> Triossido di cromo | N98: =elenco!E15 -> Ossido di cromo (VI) | O98: =elenco!F15 -> + 6 | P98: =elenco!G15 -> 1.OSSIDI | Q98: =elenco!H15 -> OSSIDI ACIDI (ANIDRIDI) | R98: =elenco!I15 -> il cromo è un metallo di transizione, a numeri di ossidazione bassi (come +2, +3) si comporta da metallo, formando ossidi basici (es. CrO, Cr₂O₃), mentre a numeri di ossidazione elevati (come +6) si comporta da non metallo, formando ossidi acidi (anidridi) (es. CrO₃, l'anidride cromica)
A99: 97 | B99: =elenco!A112 -> 111 | C99: =elenco!B112 -> H₄P₂O5 | E99: =IF(D99="","",IF(D99=L99,"OK","KO")) | F99: no | G99: =IF(F99="sì",L99,"") | I99: =IF(H99="","",IF(H99=M99,"OK","KO")) | J99: no | K99: =IF(J99="sì",M99,"") | L99: =elenco!C112 -> Acido Pirofosforoso | M99: =elenco!D112 -> acido difosforoso (III) | N99: =elenco!E112 -> acido difosforico (III) | O99: =elenco!F112 -> 3 | P99: =elenco!G112 -> 6. ACIDI OSSIGENATI | Q99: =elenco!H112 -> 0 | R99: =elenco!I112 -> da Anidride fosforosa - Gruppo 15
A100: 98 | B100: =elenco!A16 -> 15 | C100: =elenco!B16 -> CrO | E100: =IF(D100="","",IF(D100=L100,"OK","KO")) | F100: no | G100: =IF(F100="sì",L100,"") | I100: =IF(H100="","",IF(H100=M100,"OK","KO")) | J100: no | K100: =IF(J100="sì",M100,"") | L100: =elenco!C16 -> Ossido cromoso | M100: =elenco!D16 -> Ossido di cromo | N100: =elenco!E16 -> Ossido di cromo (II) | O100: =elenco!F16 -> + 2 | P100: =elenco!G16 -> 1.OSSIDI | Q100: =elenco!H16 -> OSSIDI BASICI | R100: =elenco!I16 -> il cromo è un metallo di transizione, a numeri di ossidazione bassi (come +2, +3) si comporta da metallo, formando ossidi basici (es. CrO, Cr₂O₃), mentre a numeri di ossidazione elevati (come +6) si comporta da non metallo, formando ossidi acidi (anidridi) (es. CrO₃, l'anidride cromica)
...

Sheet elenco
A1: item | B1: Formula | C1: Nome Tradizionale | D1: Nome IUPAC | E1: Nome Stock | F1: n.o. elemento centrale | G1: Categoria | H1: Sottocategoria | I1: Note
A2: 1 | B2: Cl₂O₇ | C2: Anidride perclorica | D2: Eptaossido di dicloro | E2: Ossido di cloro (VII) | F2: 7 | G2: 1.OSSIDI | H2: OSSIDI ACIDI (ANIDRIDI)
A3: 2 | B3: Cl₂O₅ | C3: Anidride clorica | D3: Pentossido di dicloro | E3: Ossido di cloro (V) | F3: 5 | G3: 1.OSSIDI | H3: OSSIDI ACIDI (ANIDRIDI)
A4: 3 | B4: Cl₂O₃ | C4: Anidride clorosa | D4: Triossido di dicloro | E4: Ossido di cloro (III) | F4: 3 | G4: 1.OSSIDI | H4: OSSIDI ACIDI (ANIDRIDI)
A5: 4 | B5: Cl₂O | C5: Anidride ipoclorosa | D5: Monossido di dicloro | E5: Ossido di cloro (I) | F5: 1 | G5: 1.OSSIDI | H5: OSSIDI ACIDI (ANIDRIDI)
A6: 5 | B6: HClO₄ | C6: Acido perclorico | D6: Acido tetraossosclorico (VII) | E6: Acido tetraossosclorico(VII) | F6: 7 | G6: 6. ACIDI OSSIGENATI | I6: Gruppo 17
A7: 6 | B7: HClO₃ | C7: Acido clorico | D7: Acido triossoclorico (V) | E7: Acido triossoclorico(V) | F7: 5 | G7: 6. ACIDI OSSIGENATI | I7: Gruppo 17
A8: 7 | B8: HClO₂ | C8: Acido cloroso | D8: Acido diossoclorico (III) | E8: Acido diossoclorico(III) | F8: 3 | G8: 6. ACIDI OSSIGENATI | I8: Gruppo 17
A9: 8 | B9: HClO | C9: Acido ipocloroso | D9: Acido ossoclorico (I) | E9: Acido ossoclorico(I) | F9: 1 | G9: 6. ACIDI OSSIGENATI | I9: Gruppo 17
A10: 9 | B10: Mn₂O7 | C10: Anidride permanganica | D10: Eptaossido di dimanganese (VII) | E10: Ossido di dimanganese (VII) | F10: + 7 | G10: 1.OSSIDI | H10: OSSIDI ACIDI (ANIDRIDI) | I10: il manganese è un metallo di transizione (blocco d) che può assumere diversi stati di ossidazione: nei più bassi tendere a comportarsi come un metallo, formando ossidi basici (idrossidi con aggiunta di acqua), nei più alti come un non metallo, formando ossidi acidi (acidi con aggiunta di acqua)
A11: 10 | B11: MnO₃ | C11: Anidride manganica | D11: Triossido di manganese | E11: Ossido di manganese (VI) | F11: + 6 | G11: 1.OSSIDI | H11: OSSIDI ACIDI (ANIDRIDI) | I11: il manganese è un metallo di transizione (blocco d) che può assumere diversi stati di ossidazione: nei più bassi tendere a comportarsi come un metallo, formando ossidi basici (idrossidi con aggiunta di acqua), nei più alti come un non metallo, formando ossidi acidi (acidi con aggiunta di acqua)
A12: 11 | B12: MnO2 | C12: Anidride manganosa | D12: Diossido di manganese | E12: Ossido di manganese (IV) | F12: + 4 | G12: 1.OSSIDI | H12: OSSIDI ACIDI (ANIDRIDI) | I12: il manganese è un metallo di transizione (blocco d) che può assumere diversi stati di ossidazione: nei più bassi tendere a comportarsi come un metallo, formando ossidi basici (idrossidi con aggiunta di acqua), nei più alti come un non metallo, formando ossidi acidi (acidi con aggiunta di acqua)
A13: 12 | B13: Mn₂O₃ | C13: Ossido manganico | D13: Triossido di dimanganese | E13: Ossido di manganese (III) | F13: + 3 | G13: 1.OSSIDI | H13: OSSIDI BASICI | I13: il manganese è un metallo di transizione (blocco d) che può assumere diversi stati di ossidazione: nei più bassi tendere a comportarsi come un metallo, formando ossidi basici (idrossidi con aggiunta di acqua), nei più alti come un non metallo, formando ossidi acidi (acidi con aggiunta di acqua)
A14: 13 | B14: MnO | C14: Ossido manganoso | D14: Ossido di manganese | E14: Ossido di manganese (II) | F14: + 2 | G14: 1.OSSIDI | H14: OSSIDI BASICI | I14: il manganese è un metallo di transizione (blocco d) che può assumere diversi stati di ossidazione: nei più bassi tendere a comportarsi come un metallo, formando ossidi basici (idrossidi con aggiunta di acqua), nei più alti come un non metallo, formando ossidi acidi (acidi con aggiunta di acqua)
A15: 14 | B15: CrO3 | C15: Anidride cromica | D15: Triossido di cromo | E15: Ossido di cromo (VI) | F15: + 6 | G15: 1.OSSIDI | H15: OSSIDI ACIDI (ANIDRIDI) | I15: il cromo è un metallo di transizione, a numeri di ossidazione bassi (come +2, +3) si comporta da metallo, formando ossidi basici (es. CrO, Cr₂O₃), mentre a numeri di ossidazione elevati (come +6) si comporta da non metallo, formando ossidi acidi (anidridi) (es. CrO₃, l'anidride cromica)
A16: 15 | B16: CrO | C16: Ossido cromoso | D16: Ossido di cromo | E16: Ossido di cromo (II) | F16: + 2 | G16: 1.OSSIDI | H16: OSSIDI BASICI | I16: il cromo è un metallo di transizione, a numeri di ossidazione bassi (come +2, +3) si comporta da metallo, formando ossidi basici (es. CrO, Cr₂O₃), mentre a numeri di ossidazione elevati (come +6) si comporta da non metallo, formando ossidi acidi (anidridi) (es. CrO₃, l'anidride cromica)
A17: 16 | B17: Cr₂O3 | C17: Ossido cromico | D17: Triossido di dicromo | E17: Ossido di cromo (III) | F17: + 3 | G17: 1.OSSIDI | H17: OSSIDI BASICI | I17: il cromo è un metallo di transizione, a numeri di ossidazione bassi (come +2, +3) si comporta da metallo, formando ossidi basici (es. CrO, Cr₂O₃), mentre a numeri di ossidazione elevati (come +6) si comporta da non metallo, formando ossidi acidi (anidridi) (es. CrO₃, l'anidride cromica)
A18: 17 | B18: CuO | C18: Ossido rameico | D18: Ossido di rame | E18: Ossido di rame(II) | F18: 2 | G18: 1.OSSIDI | H18: OSSIDI BASICI
A19: 18 | B19: Cu₂O | C19: Ossido rameoso | D19: Ossido di dirame | E19: Ossido di rame(I) | F19: 1 | G19: 1.OSSIDI | H19: OSSIDI BASICI
A20: 19 | B20: Cu(OH)₂ | C20: Idrossido rameico | D20: Idrossido di rame | E20: Idrossido di rame(II) | F20: + 2 | G20: 5. IDROSSIDI
A21: 20 | B21: CuCl | C21: Cloruro rameoso | D21: Cloruro di rame | E21: Cloruro di rame (I) | F21: 1 | G21: 4. SALI BINARI
A22: 21 | B22: CuCl₂ | C22: Cloruro rameico | D22: Dicloruro di rame | E22: Cloruro di rame (II) | F22: 2 | G22: 4. SALI BINARI
A23: 22 | B23: PbO₂ | C23: Ossido piombico | D23: Diossido di piombo | E23: Ossido di piombo(IV) | F23: 4 | G23: 1.OSSIDI
A24: 23 | B24: PbO | C24: Ossido piomboso | D24: Ossido di piombo | E24: Ossido di piombo(II) | F24: 2 | G24: 1.OSSIDI | H24: OSSIDI BASICI
A25: 24 | B25: Pb(OH)₂ | C25: Idrossido piomboso | D25: Idrossido di piombo | E25: Idrossido di piombo(II) | F25: 2 | G25: 5. IDROSSIDI
A26: 25 | B26: Al₂O₃ | C26: Allumina | D26: Triossido di dialluminio | E26: ossido di alluminio (III) | F26: 3 | G26: 1.OSSIDI | H26: OSSIDI BASICI
A27: 26 | B27: CO | C27: Ossido di carbonio | D27: Monossido di carbonio | E27: Ossido di carbonio(II) | F27: 2 | G27: 1.OSSIDI | H27: OSSIDI ACIDI (ANIDRIDI)
A28: 27 | B28: CO₂ | C28: Anidride carbonica | D28: Diossido di carbonio | E28: Ossido di carbonio(IV) | F28: 4 | G28: 1.OSSIDI | H28: OSSIDI ACIDI (ANIDRIDI)
A29: 28 | B29: Fe₂O₃ | C29: Ossido ferrico | D29: Triossido di diferro | E29: Ossido di ferro(III) | F29: 3 | G29: 1.OSSIDI | H29: OSSIDI BASICI
A30: 29 | B30: Fe₃O₄ | C30: Ossido ferroso ferrico | D30: Tetrossido di triferro | E30: - | F30: 2/3 | G30: 1.OSSIDI | H30: OSSIDI BASICI
A31: 30 | B31: FeO | C31: Ossido ferroso | D31: Ossido di ferro | E31: Ossido di ferro(II) | F31: 2 | G31: 1.OSSIDI | H31: OSSIDI BASICI
A32: 31 | B32: H₂O | C32: Acqua o ossidano | D32: Ossido di diidrogeno | E32: Ossido di idrogeno(II) | F32: −2 | G32: 1.OSSIDI
A33: 32 | B33: N₂O | C33: Protossido di azoto | D33: Ossido di diazoto | E33: Ossido di azoto(I) | F33: 1 | G33: 1.OSSIDI
A34: 33 | B34: NO | C34: Ossido di azoto | D34: Monossido di azoto | E34: Ossido di azoto(II) | F34: 2 | G34: 1.OSSIDI
A35: 34 | B35: NO₂ | C35: ipoazotide | D35: Diossido di azoto | E35: Ossido di azoto(IV) | F35: 4 | G35: 1.OSSIDI | I35: Il diossido di azoto (noto anche come ipoazotide, specie se in forma dimera, N2O4)
A36: 35 | B36: P₂O₅ | C36: Anidride fosforica | D36: Pentossido di difosforo | E36: Ossido di fosforo(V) | F36: 5 | G36: 1.OSSIDI | H36: OSSIDI ACIDI (ANIDRIDI)
A37: 36 | B37: SO₂ | C37: Anidride solforosa | D37: Diossido di zolfo | E37: Ossido di zolfo(IV) | F37: 4 | G37: 1.OSSIDI | H37: OSSIDI ACIDI (ANIDRIDI)
A38: 37 | B38: SO₃ | C38: Anidride solforica | D38: Triossido di zolfo | E38: Ossido di zolfo(VI) | F38: 6 | G38: 1.OSSIDI | H38: OSSIDI ACIDI (ANIDRIDI)
A39: 38 | B39: ZnO | C39: Ossido di zinco | D39: Ossido di zinco | E39: - | G39: 1.OSSIDI
A40: 39 | B40: CaO | C40: Ossido di calcio | D40: Ossido di calcio | E40: Ossido di calcio (II) | F40: 2 | G40: 1.OSSIDI | H40: OSSIDI BASICI
A41: 40 | B41: Na₂O | C41: Ossido di sodio | D41: Ossido di disodio | E41: Ossido di sodio (I) | F41: 1 | G41: 1.OSSIDI | H41: OSSIDI BASICI
A42: 41 | B42: MgO | C42: Ossido di magnesio | D42: Ossido di magnesio | E42: Ossido di magnesio (II) | F42: 2 | G42: 1.OSSIDI | H42: OSSIDI BASICI
A43: 42 | B43: HF | C43: Acido fluoridrico | D43: Fluoruro di idrogeno | E43: - | F43: −1 | G43: 3. ACIDI BINARI
A44: 43 | B44: HCl | C44: Acido cloridrico | D44: Cloruro di idrogeno | E44: - | F44: −1 | G44: 3. ACIDI BINARI
A45: 44 | B45: HI | C45: Acido iodidrico | D45: Ioduro di idrogeno | E45: - | F45: −1 | G45: 3. ACIDI BINARI
A46: 45 | B46: H₂S | C46: Acido solfidrico | D46: Solfuro di diidrogeno | E46: - | F46: −2 | G46: 3. ACIDI BINARI
A47: 46 | B47: HBr | C47: Acido bromidrico | D47: Bromuro di idrogeno | E47: - | G47: 3. ACIDI BINARI
A48: 47 | B48: H₂CO₃ | C48: Acido carbonico | D48: Acido triossocarbonico (IV) | E48: Acido carbonico (IV) | G48: 6. ACIDI OSSIGENATI | I48: da anidride carbonica - Gruppo 14
A49: 48 | B49: H₂SO₄ | C49: Acido solforico | D49: Acido tetraossosolforico (VI) | E49: Acido solforico(VI) | F49: 6 | G49: 6. ACIDI OSSIGENATI | I49: Gruppo 16
A50: 49 | B50: H₂SO₃ | C50: Acido solforoso | D50: Acido triossosolforico (IV) | E50: Acido solforico(IV) | F50: 4 | G50: 6. ACIDI OSSIGENATI | I50: Gruppo 16
A51: 50 | B51: H₃PO₄ | C51: Acido fosforico | D51: Acido tetrossosfosforico (V) | E51: Acido fosforico(V) | F51: 5 | G51: 6. ACIDI OSSIGENATI
A52: 51 | B52: H₃PO₃ | C52: Acido fosforoso | D52: Acido triossofosforico (III) | E52: Acido fosforico(III) | F52: 3 | G52: 6. ACIDI OSSIGENATI
A53: 52 | B53: HNO₃ | C53: Acido nitrico | D53: Acido triossonitrico (IV) | E53: Acido nitrico(V) | F53: 5 | G53: 6. ACIDI OSSIGENATI | I53: Gruppo 15 - nella nomenclatura IUPAC - a differenza delle anidridi - si indica la valenza anche nella IUPAC
A54: 53 | B54: HNO₂ | C54: Acido nitroso | D54: Acido diossonitrico (III) | E54: Acido nitrico(III) | F54: 3 | G54: 6. ACIDI OSSIGENATI | I54: Gruppo 15 - nella nomenclatura IUPAC - a differenza delle anidridi - si indica la valenza anche nella IUPAC
A55: 54 | B55: Ca(OH)₂ | C55: Calce spenta | D55: Diidrossido di calcio | E55: idrossido di calcio (II) | F55: 2 | G55: 5. IDROSSIDI
A56: 55 | B56: Fe(OH)₃ | C56: Idrossido ferrico | D56: Triidrossido di ferro | E56: Idrossido di ferro (III) | F56: 3 | G56: 5. IDROSSIDI
A57: 56 | B57: Fe(OH)₂ | C57: Idrossido ferroso | D57: Diidrossido di ferro | E57: Idrossido di ferro(II) | F57: 2 | G57: 5. IDROSSIDI
A58: 57 | B58: Mn(OH)3 | C58: Idrossido manganico | D58: Triidrossido di manganese | E58: Idrossido di manganese (III) | F58: + 3 | G58: 5. IDROSSIDI | I58: il manganese è un metallo di transizione (blocco d) che può assumere diversi stati di ossidazione: nei più bassi tendere a comportarsi come un metallo, formando ossidi basici, nei più alti come un non metallo, formando ossidi acidi
A59: 58 | B59: Mn(OH)2 | C59: Idrossido manganoso | D59: Diidrossido di manganese | E59: Idrossido di manganese (II) | F59: + 2 | G59: 5. IDROSSIDI | I59: il manganese è un metallo di transizione (blocco d) che può assumere diversi stati di ossidazione: nei più bassi tendere a comportarsi come un metallo, formando ossidi basici, nei più alti come un non metallo, formando ossidi acidi
A60: 59 | B60: Al(OH)₃ | C60: Idrossido di alluminio | D60: Triidrossido di alluminio | E60: Idrossido di alluminio (III) | F60: + 3 | G60: 5. IDROSSIDI
A61: 60 | B61: KOH | C61: Potassa caustica | D61: Idrossido di potassio | E61: Idrossido di potassio (I) | F61: + 1 | G61: 5. IDROSSIDI | I61: Il potassio ha numero di ossidazione fisso +1, quindi l’indicazione (I) nella nomenclatura Stock è corretta ma non indispensabile.
A62: 61 | B62: Mg(OH)₂ | C62: Latte di magnesia | D62: Idrossido di magnesio | E62: - | G62: 5. IDROSSIDI
A63: 62 | B63: NaOH | C63: Soda caustica | D63: Idrossido di sodio | E63: Idrossido di sodio | F63: 1 | G63: 5. IDROSSIDI
A64: 63 | B64: AgI | C64: Ioduro di argento | D64: Ioduro di argento | E64: - | G64: 4. SALI BINARI
A65: 64 | B65: Al₂S₃ | C65: Solfuro di alluminio | D65: Solfuro di alluminio | E65: - | G65: 4. SALI BINARI
A66: 65 | B66: CaS | C66: Solfuro di calcio | D66: Solfuro di calcio | G66: 4. SALI BINARI
A67: 66 | B67: FeCl₂ | C67: Cloruro ferroso | D67: Dicloruro di ferro | E67: Cloruro di ferro(II) | F67: 2 | G67: 4. SALI BINARI
A68: 67 | B68: FeCl₃ | C68: Cloruro ferrico | D68: Tricloruro di ferro | E68: Cloruro di ferro(III) | F68: 3 | G68: 4. SALI BINARI
A69: 68 | B69: KBr | C69: Bromuro di potassio | D69: Bromuro di potassio | E69: - | G69: 4. SALI BINARI
A70: 69 | B70: NaCl | C70: Cloruro di sodio | D70: Cloruro di sodio | E70: Cloruro di sodio | F70: 1 | G70: 4. SALI BINARI
A71: 70 | B71: CaCl₂ | C71: Cloruro di calcio | D71: Dicloruro di calcio | E71: Cloruro di calcio | F71: 2 | G71: 4. SALI BINARI
A72: 71 | B72: Na₂SO₄ | C72: Solfato di sodio | D72: Solfato di disodio | E72: Solfato di sodio | F72: 1 | G72: 7. SALI OSSIGENATI
A73: 72 | B73: CaCO₃ | C73: Carbonato di calcio | D73: triossocarbonato(IV) di calcio | E73: carbonato(IV) di calcio | F73: 2 | G73: 7. SALI OSSIGENATI
A74: 73 | B74: KNO₃ | C74: Nitrato di potassio | D74: Triossonitrato (V) di potassio | F74: 5 | G74: 7. SALI OSSIGENATI
A75: 74 | B75: NaNO₃ | C75: Nitrato di sodio | D75: Nitrato di sodio | E75: - | G75: 7. SALI OSSIGENATI
A76: 75 | B76: K₂SO₄ | C76: Solfato di potassio | D76: Tetraossosolfato (VI) di dipotassio | E76: - | F76: 6 | G76: 7. SALI OSSIGENATI
A77: 76 | B77: FePO₄ | C77: Fosfato ferrico | D77: Fosfato di ferro | E77: Fosfato di ferro(III) | G77: 7. SALI OSSIGENATI
A78: 77 | B78: Fe₂(SO₄)₃ | C78: Solfato ferrico | D78: Trisolfato di ferro | E78: Solfato di ferro(III) | G78: 7. SALI OSSIGENATI
A79: 78 | B79: FeSO₄ | C79: Solfato ferroso | D79: Solfato di ferro | E79: Solfato di ferro(II) | G79: 7. SALI OSSIGENATI
A80: 79 | B80: K₂SO₃ | C80: Solfito di potassio | D80: Triossosolfato (IV) di dipotassio | F80: 4 | G80: 7. SALI OSSIGENATI
A81: 80 | B81: Na₂CO₃ | C81: Carbonato di sodio | D81: Trioxocarbonato di disodio | E81: Carbonato(IV) di disodio | G81: 7. SALI OSSIGENATI
A82: 81 | B82: NaNO₂ | C82: Nitrito di sodio | D82: Deossinitrato (III) di sodio | E82: - | F82: 3 | G82: 7. SALI OSSIGENATI
A83: 82 | B83: HMnO4 | C83: Acido permanganico | D83: Acido tetraossomanganico (VII) | E83: Acido tetraossomanganico (VII) | F83: + 7 | G83: 6. ACIDI OSSIGENATI | I83: il manganese è un metallo di transizione (blocco d) che può assumere diversi stati di ossidazione: nei più bassi tendere a comportarsi come un metallo, formando ossidi basici (idrossidi con aggiunta di acqua), nei più alti come un non metallo, formando ossidi acidi (acidi con aggiunta di acqua) - Gruppo 7
A84: 83 | B84: H2MnO4 | C84: Acido manganico | D84: Acido tetraossomanganico (VI) | E84: Acido tetraossomanganico (VI) | F84: + 6 | G84: 6. ACIDI OSSIGENATI | I84: il manganese è un metallo di transizione (blocco d) che può assumere diversi stati di ossidazione: nei più bassi tendere a comportarsi come un metallo, formando ossidi basici (idrossidi con aggiunta di acqua), nei più alti come un non metallo, formando ossidi acidi (acidi con aggiunta di acqua) - Gruppo 7
A85: 84 | B85: H2MnO3 | C85: Acido manganoso | D85: Acido triossomanganico (IV) | E85: Acido triossomanganico (IV) | F85: + 4 | G85: 6. ACIDI OSSIGENATI | I85: il manganese è un metallo di transizione (blocco d) che può assumere diversi stati di ossidazione: nei più bassi tendere a comportarsi come un metallo, formando ossidi basici (idrossidi con aggiunta di acqua), nei più alti come un non metallo, formando ossidi acidi (acidi con aggiunta di acqua)
A86: 85 | B86: NaH | C86: Idruro di sodio | F86: 1 | G86: 2. IDRURI
A87: 86 | B87: CaH2 | C87: Idruro di calcio | F87: + 2 | G87: 2. IDRURI
A88: 87 | B88: CH4 | C88: Metano | D88: Carburo di idrogeno | F88: -4
A89: 88 | B89: NH3 | C89: Ammoniaca | D89: Nitruro di idrogeno | F89: -3
A90: 89 | B90: PH3 | C90: Fosfina | D90: Fosfuro di idrogeno | F90: -3
A91: 90 | B91: Ag2O | C91: Ossido di argento | D91: Ossido di diargento | E91: Ossido di argento (I) | F91: 1 | G91: 1.OSSIDI
A92: 91 | B92: B2O3 | C92: Anidride borica | D92: Triossido di diboro | G92: 1.OSSIDI | H92: OSSIDI ACIDI (ANIDRIDI)
A93: 92 | B93: P₂O3 | C93: Anidride fosforosa | D93: Triossido di difosforo | E93: Ossido di fosforo(III) | F93: 3 | G93: 1.OSSIDI | H93: OSSIDI ACIDI (ANIDRIDI)
A94: 93 | B94: N2O5 | C94: anidride nitrica | D94: pentaossido di diazoto | E94: Ossido di azoto(V) | F94: 5 | G94: 1.OSSIDI | H94: OSSIDO ACIDO (ANIDRIDE)
A95: 94 | B95: N2O3 | C95: anidride nitrosa | D95: triossido di diazoto | E95: Ossido di azoto(III) | F95: 3 | G95: 1.OSSIDI | H95: OSSIDO ACIDO (ANIDRIDE)
A96: 95 | B96: BaBr₂ | C96: bromuro di bario | D96: bromuro di bario | G96: 4. SALI BINARI
A97: 96 | B97: SnS₂ | C97: solfuro di stagno | D97: disolfuro di stagno | E97: solfuro di stagno(IV) | G97: 4. SALI BINARI
A98: 97 | B98: Zn₃As₂ | C98: arseniuro di zinco | D98: diarseniuro di trizinco | G98: 4. SALI BINARI
A99: 98 | B99: Mg₃P₂ | C99: fosfuro di magnesio | D99: di fosfuro di trimagnesio | G99: 4. SALI BINARI
A100: 99 | B100: ZnSe | C100: seleniuro di zinco | D100: seleniuro di zinco | G100: 4. SALI BINARI
...

Sheet convalida
A1: sì | D1: test ideato da
A2: no | D2: https://claudiasorcini.com/
D3: in collaborazione con Marie Rose Noudem Jague
