Workbook

Sheet test
D1: IMPORTANTE: SCRIVERE E CANCELLARE SOLO SULLE CELLE GRIGIE, NON TOCCARE LE ALTRE!!! | W1: test ideato da | Y1: https://claudiasorcini.com/
A2: ordine random | B2: item | C2: Formula | D2: Nome Tradizionale | E2: CHECK | F2: scopri Nome Tradizionale? | G2: Nome Tradizionale | H2: Nome IUPAC | I2: CHECK | J2: scopri Nome IUPAC? | K2: Nome IUPAC | L2: Nome Tradizionale | M2: Nome IUPAC | N2: Nome Stock | O2: n.o. elemento centrale | P2: Categoria | Q2: Sottocategoria | R2: Note
A3: 1 | B3: =elenco!A113 -> 112 | C3: =elenco!B113 -> H₃PO3 | E3: =IF(D3="","",IF(D3=L3,"OK","KO")) | F3: no | G3: =IF(F3="sì",L3,"") | I3: =IF(H3="","",IF(H3=M3,"OK","KO")) | J3: no | K3: =IF(J3="sì",M3,"") | L3: =elenco!C113 -> Acido Ortofosforoso | M3: =elenco!D113 -> acido fosforico (III) condensato | N3: =elenco!E113 -> acido fosforico (III) condensato | O3: =elenco!F113 -> 3 | P3: =elenco!G113 -> 6. ACIDI OSSIGENATI | Q3: =elenco!H113 -> 0 | R3: =elenco!I113 -> da Anidride fosforosa
A4: 2 | B4: =elenco!A22 -> 21 | C4: =elenco!B22 -> CuCl₂ | E4: =IF(D4="","",IF(D4=L4,"OK","KO")) | F4: no | G4: =IF(F4="sì",L4,"") | I4: =IF(H4="","",IF(H4=M4,"OK","KO")) | J4: no | K4: =IF(J4="sì",M4,"") | L4: =elenco!C22 -> Cloruro rameico | M4: =elenco!D22 -> Dicloruro di rame | N4: =elenco!E22 -> Cloruro di rame (II) | O4: =elenco!F22 -> 2 | P4: =elenco!G22 -> 4. SALI BINARI | Q4: =elenco!H22 -> 0 | R4: =elenco!I22 -> 0
A5: 3 | B5: =elenco!A10 -> 9 | C5: =elenco!B10 -> Mn₂O7 | E5: =IF(D5="","",IF(D5=L5,"OK","KO")) | F5: no | G5: =IF(F5="sì",L5,"") | I5: =IF(H5="","",IF(H5=M5,"OK","KO")) | J5: no | K5: =IF(J5="sì",M5,"") | L5: =elenco!C10 -> Anidride permanganica | M5: =elenco!D10 -> Eptaossido di dimanganese (VII) | N5: =elenco!E10 -> Ossido di dimanganese (VII) | O5: =elenco!F10 -> + 7 | P5: =elenco!G10 -> 1.OSSIDI | Q5: =elenco!H10 -> OSSIDI ACIDI (ANIDRIDI) | R5: =elenco!I10 -> il manganese è un metallo di transizione (blocco d) che può assumere diversi stati di ossidazione: nei più bassi tendere a comportarsi come un metallo, formando ossidi basici (idrossidi con aggiunta di acqua), nei più alti come un non metallo, formando ossidi acidi (acidi con aggiunta di acqua)
A6: 4 | B6: =elenco!A37 -> 36 | C6: =elenco!B37 -> SO₂ | E6: =IF(D6="","",IF(D6=L6,"OK","KO")) | F6: no | G6: =IF(F6="sì",L6,"") | I6: =IF(H6="","",IF(H6=M6,"OK","KO")) | J6: no | K6: =IF(J6="sì",M6,"") | L6: =elenco!C37 -> Anidride solforosa | M6: =elenco!D37 -> Diossido di zolfo | N6: =elenco!E37 -> Ossido di zolfo(IV) | O6: =elenco!F37 -> 4 | P6: =elenco!G37 -> 1.OSSIDI | Q6: =elenco!H37 -> OSSIDI ACIDI (ANIDRIDI) | R6: =elenco!I37 -> 0
A7: 5 | B7: =elenco!A3 -> 2 | C7: =elenco!B3 -> Cl₂O₅ | E7: =IF(D7="","",IF(D7=L7,"OK","KO")) | F7: no | G7: =IF(F7="sì",L7,"") | I7: =IF(H7="","",IF(H7=M7,"OK","KO")) | J7: no | K7: =IF(J7="sì",M7,"") | L7: =elenco!C3 -> Anidride clorica | M7: =elenco!D3 -> Pentossido di dicloro | N7: =elenco!E3 -> Ossido di cloro (V) | O7: =elenco!F3 -> 5 | P7: =elenco!G3 -> 1.OSSIDI | Q7: =elenco!H3 -> OSSIDI ACIDI (ANIDRIDI) | R7: =elenco!I3 -> 0
A8: 6 | B8: =elenco!A107 -> 106 | C8: =elenco!B107 -> H₄P₂O₇ | E8: =IF(D8="","",IF(D8=L8,"OK","KO")) | F8: no | G8: =IF(F8="sì",L8,"") | I8: =IF(H8="","",IF(H8=M8,"OK","KO")) | J8: no | K8: =IF(J8="sì",M8,"") | L8: =elenco!C107 -> Acido Pirofosforico | M8: =elenco!D107 -> acido difosforico (V) | N8: =elenco!E107 -> acido difosforico (V) | O8: =elenco!F107 -> 5 | P8: =elenco!G107 -> 6. ACIDI OSSIGENATI | Q8: =elenco!H107 -> 0 | R8: =elenco!I107 -> da Anidride fosforica P₂O₅ +2H2O - Gruppo 15
A9: 7 | B9: =elenco!A36 -> 35 | C9: =elenco!B36 -> P₂O₅ | E9: =IF(D9="","",IF(D9=L9,"OK","KO")) | F9: no | G9: =IF(F9="sì",L9,"") | I9: =IF(H9="","",IF(H9=M9,"OK","KO")) | J9: no | K9: =IF(J9="sì",M9,"") | L9: =elenco!C36 -> Anidride fosforica | M9: =elenco!D36 -> Pentossido di difosforo | N9: =elenco!E36 -> Ossido di fosforo(V) | O9: =elenco!F36 -> 5 | P9: =elenco!G36 -> 1.OSSIDI | Q9: =elenco!H36 -> OSSIDI ACIDI (ANIDRIDI) | R9: =elenco!I36 -> 0
A10: 8 | B10: =elenco!A138 -> 137 | C10: =elenco!B138 -> HIO | E10: =IF(D10="","",IF(D10=L10,"OK","KO")) | F10: no | G10: =IF(F10="sì",L10,"") | I10: =IF(H10="","",IF(H10=M10,"OK","KO")) | J10: no | K10: =IF(J10="sì",M10,"") | L10: =elenco!C138 -> acido ipoiodico | M10: =elenco!D138 -> 0 | N10: =elenco!E138 -> 0 | O10: =elenco!F138 -> 0 | P10: =elenco!G138 -> 6. ACIDI OSSIGENATI | Q10: =elenco!H138 -> 0 | R10: =elenco!I138 -> Gruppo 17
A11: 9 | B11: =elenco!A140 -> 139 | C11: =elenco!B140 -> H₂Cr₂O₇ | E11: =IF(D11="","",IF(D11=L11,"OK","KO")) | F11: no | G11: =IF(F11="sì",L11,"") | I11: =IF(H11="","",IF(H11=M11,"OK","KO")) | J11: no | K11: =IF(J11="sì",M11,"") | L11: =elenco!C140 -> acido dicromico | M11: =elenco!D140 -> 0 | N11: =elenco!E140 -> 0 | O11: =elenco!F140 -> 0 | P11: =elenco!G140 -> 6. ACIDI OSSIGENATI | Q11: =elenco!H140 -> 0 | R11: =elenco!I140 -> Gruppo 6
A12: 10 | B12: =elenco!A4 -> 3 | C12: =elenco!B4 -> Cl₂O₃ | E12: =IF(D12="","",IF(D12=L12,"OK","KO")) | F12: no | G12: =IF(F12="sì",L12,"") | I12: =IF(H12="","",IF(H12=M12,"OK","KO")) | J12: no | K12: =IF(J12="sì",M12,"") | L12: =elenco!C4 -> Anidride clorosa | M12: =elenco!D4 -> Triossido di dicloro | N12: =elenco!E4 -> Ossido di cloro (III) | O12: =elenco!F4 -> 3 | P12: =elenco!G4 -> 1.OSSIDI | Q12: =elenco!H4 -> OSSIDI ACIDI (ANIDRIDI) | R12: =elenco!I4 -> 0
A13: 11 | B13: =elenco!A141 -> 140 | C13: =elenco!B141 -> CaSO₄ | E13: =IF(D13="","",IF(D13=L13,"OK","KO")) | F13: no | G13: =IF(F13="sì",L13,"") | I13: =IF(H13="","",IF(H13=M13,"OK","KO")) | J13: no | K13: =IF(J13="sì",M13,"") | L13: =elenco!C141 -> solfato di calcio | M13: =elenco!D141 -> 0 | N13: =elenco!E141 -> 0 | O13: =elenco!F141 -> 0 | P13: =elenco!G141 -> 7. SALI OSSIGENATI | Q13: =elenco!H141 -> 0 | R13: =elenco!I141 -> 0
A14: 12 | B14: =elenco!A137 -> 136 | C14: =elenco!B137 -> HIO₃ | E14: =IF(D14="","",IF(D14=L14,"OK","KO")) | F14: no | G14: =IF(F14="sì",L14,"") | I14: =IF(H14="","",IF(H14=M14,"OK","KO")) | J14: no | K14: =IF(J14="sì",M14,"") | L14: =elenco!C137 -> acido iodico | M14: =elenco!D137 -> 0 | N14: =elenco!E137 -> 0 | O14: =elenco!F137 -> 0 | P14: =elenco!G137 -> 6. ACIDI OSSIGENATI | Q14: =elenco!H137 -> 0 | R14: =elenco!I137 -> Gruppo 17
A15: 13 | B15: =elenco!A124 -> 123 | C15: =elenco!B124 -> H₃AsO₄ | E15: =IF(D15="","",IF(D15=L15,"OK","KO")) | F15: no | G15: =IF(F15="sì",L15,"") | I15: =IF(H15="","",IF(H15=M15,"OK","KO")) | J15: no | K15: =IF(J15="sì",M15,"") | L15: =elenco!C124 -> acido arsenico | M15: =elenco!D124 -> 0 | N15: =elenco!E124 -> 0 | O15: =elenco!F124 -> 0 | P15: =elenco!G124 -> 6. ACIDI OSSIGENATI | Q15: =elenco!H124 -> 0 | R15: =elenco!I124 -> Gruppo 15
A16: 14 | B16: =elenco!A19 -> 18 | C16: =elenco!B19 -> Cu₂O | E16: =IF(D16="","",IF(D16=L16,"OK","KO")) | F16: no | G16: =IF(F16="sì",L16,"") | I16: =IF(H16="","",IF(H16=M16,"OK","KO")) | J16: no | K16: =IF(J16="sì",M16,"") | L16: =elenco!C19 -> Ossido rameoso | M16: =elenco!D19 -> Ossido di dirame | N16: =elenco!E19 -> Ossido di rame(I) | O16: =elenco!F19 -> 1 | P16: =elenco!G19 -> 1.OSSIDI | Q16: =elenco!H19 -> OSSIDI BASICI | R16: =elenco!I19 -> 0
A17: 15 | B17: =elenco!A47 -> 46 | C17: =elenco!B47 -> HBr | E17: =IF(D17="","",IF(D17=L17,"OK","KO")) | F17: no | G17: =IF(F17="sì",L17,"") | I17: =IF(H17="","",IF(H17=M17,"OK","KO")) | J17: no | K17: =IF(J17="sì",M17,"") | L17: =elenco!C47 -> Acido bromidrico | M17: =elenco!D47 -> Bromuro di idrogeno | N17: =elenco!E47 -> - | O17: =elenco!F47 -> 0 | P17: =elenco!G47 -> 3. ACIDI BINARI | Q17: =elenco!H47 -> 0 | R17: =elenco!I47 -> 0
A18: 16 | B18: =elenco!A89 -> 88 | C18: =elenco!B89 -> NH3 | E18: =IF(D18="","",IF(D18=L18,"OK","KO")) | F18: no | G18: =IF(F18="sì",L18,"") | I18: =IF(H18="","",IF(H18=M18,"OK","KO")) | J18: no | K18: =IF(J18="sì",M18,"") | L18: =elenco!C89 -> Ammoniaca | M18: =elenco!D89 -> Nitruro di idrogeno | N18: =elenco!E89 -> 0 | O18: =elenco!F89 -> -3 | P18: =elenco!G89 -> 0 | Q18: =elenco!H89 -> 0 | R18: =elenco!I89 -> 0
A19: 17 | B19: =elenco!A56 -> 55 | C19: =elenco!B56 -> Fe(OH)₃ | E19: =IF(D19="","",IF(D19=L19,"OK","KO")) | F19: no | G19: =IF(F19="sì",L19,"") | I19: =IF(H19="","",IF(H19=M19,"OK","KO")) | J19: no | K19: =IF(J19="sì",M19,"") | L19: =elenco!C56 -> Idrossido ferrico | M19: =elenco!D56 -> Triidrossido di ferro | N19: =elenco!E56 -> Idrossido di ferro (III) | O19: =elenco!F56 -> 3 | P19: =elenco!G56 -> 5. IDROSSIDI | Q19: =elenco!H56 -> 0 | R19: =elenco!I56 -> 0
A20: 18 | B20: =elenco!A54 -> 53 | C20: =elenco!B54 -> HNO₂ | E20: =IF(D20="","",IF(D20=L20,"OK","KO")) | F20: no | G20: =IF(F20="sì",L20,"") | I20: =IF(H20="","",IF(H20=M20,"OK","KO")) | J20: no | K20: =IF(J20="sì",M20,"") | L20: =elenco!C54 -> Acido nitroso | M20: =elenco!D54 -> Acido diossonitrico (III) | N20: =elenco!E54 -> Acido nitrico(III) | O20: =elenco!F54 -> 3 | P20: =elenco!G54 -> 6. ACIDI OSSIGENATI | Q20: =elenco!H54 -> 0 | R20: =elenco!I54 -> Gruppo 15 - nella nomenclatura IUPAC - a differenza delle anidridi - si indica la valenza anche nella IUPAC
A21: 19 | B21: =elenco!A51 -> 50 | C21: =elenco!B51 -> H₃PO₄ | E21: =IF(D21="","",IF(D21=L21,"OK","KO")) | F21: no | G21: =IF(F21="sì",L21,"") | I21: =IF(H21="","",IF(H21=M21,"OK","KO")) | J21: no | K21: =IF(J21="sì",M21,"") | L21: =elenco!C51 -> Acido fosforico | M21: =elenco!D51 -> Acido tetrossosfosforico (V) | N21: =elenco!E51 -> Acido fosforico(V) | O21: =elenco!F51 -> 5 | P21: =elenco!G51 -> 6. ACIDI OSSIGENATI | Q21: =elenco!H51 -> 0 | R21: =elenco!I51 -> 0
A22: 20 | B22: =elenco!A53 -> 52 | C22: =elenco!B53 -> HNO₃ | E22: =IF(D22="","",IF(D22=L22,"OK","KO")) | F22: no | G22: =IF(F22="sì",L22,"") | I22: =IF(H22="","",IF(H22=M22,"OK","KO")) | J22: no | K22: =IF(J22="sì",M22,"") | L22: =elenco!C53 -> Acido nitrico | M22: =elenco!D53 -> Acido triossonitrico (IV) | N22: =elenco!E53 -> Acido nitrico(V) | O22: =elenco!F53 -> 5 | P22: =elenco!G53 -> 6. ACIDI OSSIGENATI | Q22: =elenco!H53 -> 0 | R22: =elenco!I53 -> Gruppo 15 - nella nomenclatura IUPAC - a differenza delle anidridi - si indica la valenza anche nella IUPAC
A23: 21 | B23: =elenco!A139 -> 138 | C23: =elenco!B139 -> H₂CrO₄ | E23: =IF(D23="","",IF(D23=L23,"OK","KO")) | F23: no | G23: =IF(F23="sì",L23,"") | I23: =IF(H23="","",IF(H23=M23,"OK","KO")) | J23: no | K23: =IF(J23="sì",M23,"") | L23: =elenco!C139 -> acido cromico | M23: =elenco!D139 -> 0 | N23: =elenco!E139 -> 0 | O23: =elenco!F139 -> + 6 | P23: =elenco!G139 -> 6. ACIDI OSSIGENATI | Q23: =elenco!H139 -> 0 | R23: =elenco!I139 -> da ossido di cromo (VI) - Gruppo 6
A24: 22 | B24: =elenco!A83 -> 82 | C24: =elenco!B83 -> HMnO4 | E24: =IF(D24="","",IF(D24=L24,"OK","KO")) | F24: no | G24: =IF(F24="sì",L24,"") | I24: =IF(H24="","",IF(H24=M24,"OK","KO")) | J24: no | K24: =IF(J24="sì",M24,"") | L24: =elenco!C83 -> Acido permanganico | M24: =elenco!D83 -> Acido tetraossomanganico (VII) | N24: =elenco!E83 -> Acido tetraossomanganico (VII) | O24: =elenco!F83 -> + 7 | P24: =elenco!G83 -> 6. ACIDI OSSIGENATI | Q24: =elenco!H83 -> 0 | R24: =elenco!I83 -> il manganese è un metallo di transizione (blocco d) che può assumere diversi stati di ossidazione: nei più bassi tendere a comportarsi come un metallo, formando ossidi basici (idrossidi con aggiunta di acqua), nei più alti come un non metallo, formando ossidi acidi (acidi con aggiunta di acqua) - Gruppo 7
A25: 23 | B25: =elenco!A24 -> 23 | C25: =elenco!B24 -> PbO | E25: =IF(D25="","",IF(D25=L25,"OK","KO")) | F25: no | G25: =IF(F25="sì",L25,"") | I25: =IF(H25="","",IF(H25=M25,"OK","KO")) | J25: no | K25: =IF(J25="sì",M25,"") | L25: =elenco!C24 -> Ossido piomboso | M25: =elenco!D24 -> Ossido di piombo | N25: =elenco!E24 -> Ossido di piombo(II) | O25: =elenco!F24 -> 2 | P25: =elenco!G24 -> 1.OSSIDI | Q25: =elenco!H24 -> OSSIDI BASICI | R25: =elenco!I24 -> 0
A26: 24 | B26: =elenco!A106 -> 105 | C26: =elenco!B106 -> HPO₃ | E26: =IF(D26="","",IF(D26=L26,"OK","KO")) | F26: no | G26: =IF(F26="sì",L26,"") | I26: =IF(H26="","",IF(H26=M26,"OK","KO")) | J26: no | K26: =IF(J26="sì",M26,"") | L26: =elenco!C106 -> Acido Metafosforico | M26: =elenco!D106 -> acido fosforico (V) | N26: =elenco!E106 -> acido fosforico (V) | O26: =elenco!F106 -> 5 | P26: =elenco!G106 -> 6. ACIDI OSSIGENATI | Q26: =elenco!H106 -> 0 | R26: =elenco!I106 -> da Anidride fosforica P₂O₅ +1H2O
A27: 25 | B27: =elenco!A90 -> 89 | C27: =elenco!B90 -> PH3 | E27: =IF(D27="","",IF(D27=L27,"OK","KO")) | F27: no | G27: =IF(F27="sì",L27,"") | I27: =IF(H27="","",IF(H27=M27,"OK","KO")) | J27: no | K27: =IF(J27="sì",M27,"") | L27: =elenco!C90 -> Fosfina | M27: =elenco!D90 -> Fosfuro di idrogeno | N27: =elenco!E90 -> 0 | O27: =elenco!F90 -> -3 | P27: =elenco!G90 -> 0 | Q27: =elenco!H90 -> 0 | R27: =elenco!I90 -> 0
A28: 26 | B28: =elenco!A123 -> 122 | C28: =elenco!B123 -> HP(OH)₂ | E28: =IF(D28="","",IF(D28=L28,"OK","KO")) | F28: no | G28: =IF(F28="sì",L28,"") | I28: =IF(H28="","",IF(H28=M28,"OK","KO")) | J28: no | K28: =IF(J28="sì",M28,"") | L28: =elenco!C123 -> acido ipofosforoso (o fosfinico) | M28: =elenco!D123 -> 0 | N28: =elenco!E123 -> 0 | O28: =elenco!F123 -> 0 | P28: =elenco!G123 -> 6. ACIDI OSSIGENATI | Q28: =elenco!H123 -> 0 | R28: =elenco!I123 -> Gruppo 15
A29: 27 | B29: =elenco!A92 -> 91 | C29: =elenco!B92 -> B2O3 | E29: =IF(D29="","",IF(D29=L29,"OK","KO")) | F29: no | G29: =IF(F29="sì",L29,"") | I29: =IF(H29="","",IF(H29=M29,"OK","KO")) | J29: no | K29: =IF(J29="sì",M29,"") | L29: =elenco!C92 -> Anidride borica | M29: =elenco!D92 -> Triossido di diboro | N29: =elenco!E92 -> 0 | O29: =elenco!F92 -> 0 | P29: =elenco!G92 -> 1.OSSIDI | Q29: =elenco!H92 -> OSSIDI ACIDI (ANIDRIDI) | R29: =elenco!I92 -> 0
A30: 28 | B30: =elenco!A88 -> 87 | C30: =elenco!B88 -> CH4 | E30: =IF(D30="","",IF(D30=L30,"OK","KO")) | F30: no | G30: =IF(F30="sì",L30,"") | I30: =IF(H30="","",IF(H30=M30,"OK","KO")) | J30: no | K30: =IF(J30="sì",M30,"") | L30: =elenco!C88 -> Metano | M30: =elenco!D88 -> Carburo di idrogeno | N30: =elenco!E88 -> 0 | O30: =elenco!F88 -> -4 | P30: =elenco!G88 -> 0 | Q30: =elenco!H88 -> 0 | R30: =elenco!I88 -> 0
A31: 29 | B31: =elenco!A150 -> 149 | C31: =elenco!B150 -> HCN | E31: =IF(D31="","",IF(D31=L31,"OK","KO")) | F31: no | G31: =IF(F31="sì",L31,"") | I31: =IF(H31="","",IF(H31=M31,"OK","KO")) | J31: no | K31: =IF(J31="sì",M31,"") | L31: =elenco!C150 -> acido cianidrico | M31: =elenco!D150 -> 0 | N31: =elenco!E150 -> 0 | O31: =elenco!F150 -> -3 | P31: =elenco!G150 -> 0 | Q31: =elenco!H150 -> 0 | R31: =elenco!I150 -> n ox C +2, nox N -3
A32: 30 | B32: =elenco!A85 -> 84 | C32: =elenco!B85 -> H2MnO3 | E32: =IF(D32="","",IF(D32=L32,"OK","KO")) | F32: no | G32: =IF(F32="sì",L32,"") | I32: =IF(H32="","",IF(H32=M32,"OK","KO")) | J32: no | K32: =IF(J32="sì",M32,"") | L32: =elenco!C85 -> Acido manganoso | M32: =elenco!D85 -> Acido triossomanganico (IV) | N32: =elenco!E85 -> Acido triossomanganico (IV) | O32: =elenco!F85 -> + 4 | P32: =elenco!G85 -> 6. ACIDI OSSIGENATI | Q32: =elenco!H85 -> 0 | R32: =elenco!I85 -> il manganese è un metallo di transizione (blocco d) che può assumere diversi stati di ossidazione: nei più bassi tendere a comportarsi come un metallo, formando ossidi basici (idrossidi con aggiunta di acqua), nei più alti come un non metallo, formando ossidi acidi (acidi con aggiunta di acqua)
A33: 31 | B33: =elenco!A132 -> 131 | C33: =elenco!B132 -> HBrO₃ | E33: =IF(D33="","",IF(D33=L33,"OK","KO")) | F33: no | G33: =IF(F33="sì",L33,"") | I33: =IF(H33="","",IF(H33=M33,"OK","KO")) | J33: no | K33: =IF(J33="sì",M33,"") | L33: =elenco!C132 -> acido bromico | M33: =elenco!D132 -> 0 | N33: =elenco!E132 -> 0 | O33: =elenco!F132 -> 0 | P33: =elenco!G132 -> 6. ACIDI OSSIGENATI | Q33: =elenco!H132 -> 0 | R33: =elenco!I132 -> Gruppo 17
A34: 32 | B34: =elenco!A5 -> 4 | C34: =elenco!B5 -> Cl₂O | E34: =IF(D34="","",IF(D34=L34,"OK","KO")) | F34: no | G34: =IF(F34="sì",L34,"") | I34: =IF(H34="","",IF(H34=M34,"OK","KO")) | J34: no | K34: =IF(J34="sì",M34,"") | L34: =elenco!C5 -> Anidride ipoclorosa | M34: =elenco!D5 -> Monossido di dicloro | N34: =elenco!E5 -> Ossido di cloro (I) | O34: =elenco!F5 -> 1 | P34: =elenco!G5 -> 1.OSSIDI | Q34: =elenco!H5 -> OSSIDI ACIDI (ANIDRIDI) | R34: =elenco!I5 -> 0
A35: 33 | B35: =elenco!A35 -> 34 | C35: =elenco!B35 -> NO₂ | E35: =IF(D35="","",IF(D35=L35,"OK","KO")) | F35: no | G35: =IF(F35="sì",L35,"") | I35: =IF(H35="","",IF(H35=M35,"OK","KO")) | J35: no | K35: =IF(J35="sì",M35,"") | L35: =elenco!C35 -> ipoazotide | M35: =elenco!D35 -> Diossido di azoto | N35: =elenco!E35 -> Ossido di azoto(IV) | O35: =elenco!F35 -> 4 | P35: =elenco!G35 -> 1.OSSIDI | Q35: =elenco!H35 -> 0 | R35: =elenco!I35 -> Il diossido di azoto (noto anche come ipoazotide, specie se in forma dimera, N2O4)
A36: 34 | B36: =elenco!A14 -> 13 | C36: =elenco!B14 -> MnO | E36: =IF(D36="","",IF(D36=L36,"OK","KO")) | F36: no | G36: =IF(F36="sì",L36,"") | I36: =IF(H36="","",IF(H36=M36,"OK","KO")) | J36: no | K36: =IF(J36="sì",M36,"") | L36: =elenco!C14 -> Ossido manganoso | M36: =elenco!D14 -> Ossido di manganese | N36: =elenco!E14 -> Ossido di manganese (II) | O36: =elenco!F14 -> + 2 | P36: =elenco!G14 -> 1.OSSIDI | Q36: =elenco!H14 -> OSSIDI BASICI | R36: =elenco!I14 -> il manganese è un metallo di transizione (blocco d) che può assumere diversi stati di ossidazione: nei più bassi tendere a comportarsi come un metallo, formando ossidi basici (idrossidi con aggiunta di acqua), nei più alti come un non metallo, formando ossidi acidi (acidi con aggiunta di acqua)
A37: 35 | B37: =elenco!A28 -> 27 | C37: =elenco!B28 -> CO₂ | E37: =IF(D37="","",IF(D37=L37,"OK","KO")) | F37: no | G37: =IF(F37="sì",L37,"") | I37: =IF(H37="","",IF(H37=M37,"OK","KO")) | J37: no | K37: =IF(J37="sì",M37,"") | L37: =elenco!C28 -> Anidride carbonica | M37: =elenco!D28 -> Diossido di carbonio | N37: =elenco!E28 -> Ossido di carbonio(IV) | O37: =elenco!F28 -> 4 | P37: =elenco!G28 -> 1.OSSIDI | Q37: =elenco!H28 -> OSSIDI ACIDI (ANIDRIDI) | R37: =elenco!I28 -> 0
A38: 36 | B38: =elenco!A129 -> 128 | C38: =elenco!B129 -> H₂SeO₃ | E38: =IF(D38="","",IF(D38=L38,"OK","KO")) | F38: no | G38: =IF(F38="sì",L38,"") | I38: =IF(H38="","",IF(H38=M38,"OK","KO")) | J38: no | K38: =IF(J38="sì",M38,"") | L38: =elenco!C129 -> acido selenioso | M38: =elenco!D129 -> 0 | N38: =elenco!E129 -> 0 | O38: =elenco!F129 -> 0 | P38: =elenco!G129 -> 6. ACIDI OSSIGENATI | Q38: =elenco!H129 -> 0 | R38: =elenco!I129 -> Gruppo 16
A39: 37 | B39: =elenco!A105 -> 104 | C39: =elenco!B105 -> CCl₄ | E39: =IF(D39="","",IF(D39=L39,"OK","KO")) | F39: no | G39: =IF(F39="sì",L39,"") | I39: =IF(H39="","",IF(H39=M39,"OK","KO")) | J39: no | K39: =IF(J39="sì",M39,"") | L39: =elenco!C105 -> tetracloruro di carbonio | M39: =elenco!D105 -> tetracloruro di carbonio | N39: =elenco!E105 -> 0 | O39: =elenco!F105 -> 0 | P39: =elenco!G105 -> 4. SALI BINARI | Q39: =elenco!H105 -> 0 | R39: =elenco!I105 -> Alcuni composti (tipo CCl₄, BF₃, PCl₅) non hanno metalli, quindi si usa solo il prefisso numerico (tri-, tetra-, penta-) e la radice dell’elemento.
A40: 38 | B40: =elenco!A108 -> 107 | C40: =elenco!B108 -> H₃PO₄ | E40: =IF(D40="","",IF(D40=L40,"OK","KO")) | F40: no | G40: =IF(F40="sì",L40,"") | I40: =IF(H40="","",IF(H40=M40,"OK","KO")) | J40: no | K40: =IF(J40="sì",M40,"") | L40: =elenco!C108 -> Acido Ortofosforico | M40: =elenco!D108 -> acido fosforico (V) condensato | N40: =elenco!E108 -> acido fosforico (V) condensato | O40: =elenco!F108 -> 5 | P40: =elenco!G108 -> 6. ACIDI OSSIGENATI | Q40: =elenco!H108 -> 0 | R40: =elenco!I108 -> da Anidride fosforica P₂O₅ +3H2O - Gruppo 15
...

Sheet elenco
A1: item | B1: Formula | C1: Nome Tradizionale | D1: Nome IUPAC | E1: Nome Stock | F1: n.o. elemento centrale | G1: Categoria | H1: Sottocategoria | I1: Note
A2: 1 | B2: Cl₂O₇ | C2: Anidride perclorica | D2: Eptaossido di dicloro | E2: Ossido di cloro (VII) | F2: 7 | G2: 1.OSSIDI | H2: OSSIDI ACIDI (ANIDRIDI)
A3: 2 | B3: Cl₂O₅ | C3: Anidride clorica | D3: Pentossido di dicloro | E3: Ossido di cloro (V) | F3: 5 | G3: 1.OSSIDI | H3: OSSIDI ACIDI (ANIDRIDI)
A4: 3 | B4: Cl₂O₃ | C4: Anidride clorosa | D4: Triossido di dicloro | E4: Ossido di cloro (III) | F4: 3 | G4: 1.OSSIDI | H4: OSSIDI ACIDI (ANIDRIDI)
A5: 4 | B5: Cl₂O | C5: Anidride ipoclorosa | D5: Monossido di dicloro | E5: Ossido di cloro (I) | F5: 1 | G5: 1.OSSIDI | H5: OSSIDI ACIDI (ANIDRIDI)
A6: 5 | B6: HClO₄ | C6: Acido perclorico | D6: Acido tetraossosclorico (VII) | E6: Acido tetraossosclorico(VII) | F6: 7 | G6: 6. ACIDI OSSIGENATI | I6: Gruppo 17
A7: 6 | B7: HClO₃ | C7: Acido clorico | D7: Acido triossoclorico (V) | E7: Acido triossoclorico(V) | F7: 5 | G7: 6. ACIDI OSSIGENATI | I7: Gruppo 17
A8: 7 | B8: HClO₂ | C8: Acido cloroso | D8: Acido diossoclorico (III) | E8: Acido diossoclorico(III) | F8: 3 | G8: 6. ACIDI OSSIGENATI | I8: Gruppo 17
A9: 8 | B9: HClO | C9: Acido ipocloroso | D9: Acido ossoclorico (I) | E9: Acido ossoclorico(I) | F9: 1 | G9: 6. ACIDI OSSIGENATI | I9: Gruppo 17
A10: 9 | B10: Mn₂O7 | C10: Anidride permanganica | D10: Eptaossido di dimanganese (VII) | E10: Ossido di dimanganese (VII) | F10: + 7 | G10: 1.OSSIDI | H10: OSSIDI ACIDI (ANIDRIDI) | I10: il manganese è un metallo di transizione (blocco d) che può assumere diversi stati di ossidazione: nei più bassi tendere a comportarsi come un metallo, formando ossidi basici (idrossidi con aggiunta di acqua), nei più alti come un non metallo, formando ossidi acidi (acidi con aggiunta di acqua)
A11: 10 | B11: MnO₃ | C11: Anidride manganica | D11: Triossido di manganese | E11: Ossido di manganese (VI) | F11: + 6 | G11: 1.OSSIDI | H11: OSSIDI ACIDI (ANIDRIDI) | I11: il manganese è un metallo di transizione (blocco d) che può assumere diversi stati di ossidazione: nei più bassi tendere a comportarsi come un metallo, formando ossidi basici (idrossidi con aggiunta di acqua), nei più alti come un non metallo, formando ossidi acidi (acidi con aggiunta di acqua)
A12: 11 | B12: MnO2 | C12: Anidride manganosa | D12: Diossido di manganese | E12: Ossido di manganese (IV) | F12: + 4 | G12: 1.OSSIDI | H12: OSSIDI ACIDI (ANIDRIDI) | I12: il manganese è un metallo di transizione (blocco d) che può assumere diversi stati di ossidazione: nei più bassi tendere a comportarsi come un metallo, formando ossidi basici (idrossidi con aggiunta di acqua), nei più alti come un non metallo, formando ossidi acidi (acidi con aggiunta di acqua)
A13: 12 | B13: Mn₂O₃ | C13: Ossido manganico | D13: Triossido di dimanganese | E13: Ossido di manganese (III) | F13: + 3 | G13: 1.OSSIDI | H13: OSSIDI BASICI | I13: il manganese è un metallo di transizione (blocco d) che può assumere diversi stati di ossidazione: nei più bassi tendere a comportarsi come un metallo, formando ossidi basici (idrossidi con aggiunta di acqua), nei più alti come un non metallo, formando ossidi acidi (acidi con aggiunta di acqua)
A14: 13 | B14: MnO | C14: Ossido manganoso | D14: Ossido di manganese | E14: Ossido di manganese (II) | F14: + 2 | G14: 1.OSSIDI | H14: OSSIDI BASICI | I14: il manganese è un metallo di transizione (blocco d) che può assumere diversi stati di ossidazione: nei più bassi tendere a comportarsi come un metallo, formando ossidi basici (idrossidi con aggiunta di acqua), nei più alti come un non metallo, formando ossidi acidi (acidi con aggiunta di acqua)
A15: 14 | B15: CrO3 | C15: Anidride cromica | D15: Triossido di cromo | E15: Ossido di cromo (VI) | F15: + 6 | G15: 1.OSSIDI | H15: OSSIDI ACIDI (ANIDRIDI) | I15: il cromo è un metallo di transizione, a numeri di ossidazione bassi (come +2, +3) si comporta da metallo, formando ossidi basici (es. CrO, Cr₂O₃), mentre a numeri di ossidazione elevati (come +6) si comporta da non metallo, formando ossidi acidi (anidridi) (es. CrO₃, l'anidride cromica)
A16: 15 | B16: CrO | C16: Ossido cromoso | D16: Ossido di cromo | E16: Ossido di cromo (II) | F16: + 2 | G16: 1.OSSIDI | H16: OSSIDI BASICI | I16: il cromo è un metallo di transizione, a numeri di ossidazione bassi (come +2, +3) si comporta da metallo, formando ossidi basici (es. CrO, Cr₂O₃), mentre a numeri di ossidazione elevati (come +6) si comporta da non metallo, formando ossidi acidi (anidridi) (es. CrO₃, l'anidride cromica)
A17: 16 | B17: Cr₂O3 | C17: Ossido cromico | D17: Triossido di dicromo | E17: Ossido di cromo (III) | F17: + 3 | G17: 1.OSSIDI | H17: OSSIDI BASICI | I17: il cromo è un metallo di transizione, a numeri di ossidazione bassi (come +2, +3) si comporta da metallo, formando ossidi basici (es. CrO, Cr₂O₃), mentre a numeri di ossidazione elevati (come +6) si comporta da non metallo, formando ossidi acidi (anidridi) (es. CrO₃, l'anidride cromica)
A18: 17 | B18: CuO | C18: Ossido rameico | D18: Ossido di rame | E18: Ossido di rame(II) | F18: 2 | G18: 1.OSSIDI | H18: OSSIDI BASICI
A19: 18 | B19: Cu₂O | C19: Ossido rameoso | D19: Ossido di dirame | E19: Ossido di rame(I) | F19: 1 | G19: 1.OSSIDI | H19: OSSIDI BASICI
A20: 19 | B20: Cu(OH)₂ | C20: Idrossido rameico | D20: Idrossido di rame | E20: Idrossido di rame(II) | F20: + 2 | G20: 5. IDROSSIDI
A21: 20 | B21: CuCl | C21: Cloruro rameoso | D21: Cloruro di rame | E21: Cloruro di rame (I) | F21: 1 | G21: 4. SALI BINARI
A22: 21 | B22: CuCl₂ | C22: Cloruro rameico | D22: Dicloruro di rame | E22: Cloruro di rame (II) | F22: 2 | G22: 4. SALI BINARI
A23: 22 | B23: PbO₂ | C23: Ossido piombico | D23: Diossido di piombo | E23: Ossido di piombo(IV) | F23: 4 | G23: 1.OSSIDI
A24: 23 | B24: PbO | C24: Ossido piomboso | D24: Ossido di piombo | E24: Ossido di piombo(II) | F24: 2 | G24: 1.OSSIDI | H24: OSSIDI BASICI
A25: 24 | B25: Pb(OH)₂ | C25: Idrossido piomboso | D25: Idrossido di piombo | E25: Idrossido di piombo(II) | F25: 2 | G25: 5. IDROSSIDI
A26: 25 | B26: Al₂O₃ | C26: Allumina | D26: Triossido di dialluminio | E26: ossido di alluminio (III) | F26: 3 | G26: 1.OSSIDI | H26: OSSIDI BASICI
A27: 26 | B27: CO | C27: Ossido di carbonio | D27: Monossido di carbonio | E27: Ossido di carbonio(II) | F27: 2 | G27: 1.OSSIDI | H27: OSSIDI ACIDI (ANIDRIDI)
A28: 27 | B28: CO₂ | C28: Anidride carbonica | D28: Diossido di carbonio | E28: Ossido di carbonio(IV) | F28: 4 | G28: 1.OSSIDI | H28: OSSIDI ACIDI (ANIDRIDI)
A29: 28 | B29: Fe₂O₃ | C29: Ossido ferrico | D29: Triossido di diferro | E29: Ossido di ferro(III) | F29: 3 | G29: 1.OSSIDI | H29: OSSIDI BASICI
A30: 29 | B30: Fe₃O₄ | C30: Ossido ferroso ferrico | D30: Tetrossido di triferro | E30: - | F30: 2/3 | G30: 1.OSSIDI | H30: OSSIDI BASICI
A31: 30 | B31: FeO | C31: Ossido ferroso | D31: Ossido di ferro | E31: Ossido di ferro(II) | F31: 2 | G31: 1.OSSIDI | H31: OSSIDI BASICI
A32: 31 | B32: H₂O | C32: Acqua o ossidano | D32: Ossido di diidrogeno | E32: Ossido di idrogeno(II) | F32: −2 | G32: 1.OSSIDI
A33: 32 | B33: N₂O | C33: Protossido di azoto | D33: Ossido di diazoto | E33: Ossido di azoto(I) | F33: 1 | G33: 1.OSSIDI
A34: 33 | B34: NO | C34: Ossido di azoto | D34: Monossido di azoto | E34: Ossido di azoto(II) | F34: 2 | G34: 1.OSSIDI
A35: 34 | B35: NO₂ | C35: ipoazotide | D35: Diossido di azoto | E35: Ossido di azoto(IV) | F35: 4 | G35: 1.OSSIDI | I35: Il diossido di azoto (noto anche come ipoazotide, specie se in forma dimera, N2O4)
A36: 35 | B36: P₂O₅ | C36: Anidride fosforica | D36: Pentossido di difosforo | E36: Ossido di fosforo(V) | F36: 5 | G36: 1.OSSIDI | H36: OSSIDI ACIDI (ANIDRIDI)
A37: 36 | B37: SO₂ | C37: Anidride solforosa | D37: Diossido di zolfo | E37: Ossido di zolfo(IV) | F37: 4 | G37: 1.OSSIDI | H37: OSSIDI ACIDI (ANIDRIDI)
A38: 37 | B38: SO₃ | C38: Anidride solforica | D38: Triossido di zolfo | E38: Ossido di zolfo(VI) | F38: 6 | G38: 1.OSSIDI | H38: OSSIDI ACIDI (ANIDRIDI)
A39: 38 | B39: ZnO | C39: Ossido di zinco | D39: Ossido di zinco | E39: - | G39: 1.OSSIDI
A40: 39 | B40: CaO | C40: Ossido di calcio | D40: Ossido di calcio | E40: Ossido di calcio (II) | F40: 2 | G40: 1.OSSIDI | H40: OSSIDI BASICI
...

Sheet convalida
A1: sì | D1: test ideato da
A2: no | D2: https://claudiasorcini.com/
D3: in collaborazione con Marie Rose Noudem Jague
